BEGIN:VCALENDAR
VERSION:2.0
PRODID:-//Alien Boys - ECPv6.15.20//NONSGML v1.0//EN
CALSCALE:GREGORIAN
METHOD:PUBLISH
X-WR-CALNAME:Alien Boys
X-ORIGINAL-URL:https://alienboys.ca
X-WR-CALDESC:Events for Alien Boys
REFRESH-INTERVAL;VALUE=DURATION:PT1H
X-Robots-Tag:noindex
X-PUBLISHED-TTL:PT1H
BEGIN:VTIMEZONE
TZID:UTC
BEGIN:STANDARD
TZOFFSETFROM:+0000
TZOFFSETTO:+0000
TZNAME:UTC
DTSTART:20240101T000000
END:STANDARD
END:VTIMEZONE
BEGIN:VEVENT
DTSTART;TZID=UTC:20250620T200000
DTEND;TZID=UTC:20250620T235900
DTSTAMP:20260423T181458
CREATED:20250321T035143Z
LAST-MODIFIED:20250816T195818Z
UID:894-1750449600-1750463940@alienboys.ca
SUMMARY:Cancer Sucks\, Let's Dance - A benefit for Jonny Bones
DESCRIPTION:w/ Los Furios\, Still Spirits\, Die Job\, Brasser\, Jesse Lebourdais \nCheck out the Go fund me
URL:https://alienboys.ca/event/vancouver-redgate/
LOCATION:The Rickshaw\, 254 East Hastings\, Vancouver\, BC\, Canada
ATTACH;FMTTYPE=image/png:https://alienboys.ca/wp-content/uploads/2025/03/Vancouver-Jonny-Bones-Benefit-June-20-2025.png
END:VEVENT
END:VCALENDAR