BEGIN:VCALENDAR
VERSION:2.0
PRODID:-//Alien Boys - ECPv6.15.20//NONSGML v1.0//EN
CALSCALE:GREGORIAN
METHOD:PUBLISH
X-WR-CALNAME:Alien Boys
X-ORIGINAL-URL:https://alienboys.ca
X-WR-CALDESC:Events for Alien Boys
REFRESH-INTERVAL;VALUE=DURATION:PT1H
X-Robots-Tag:noindex
X-PUBLISHED-TTL:PT1H
BEGIN:VTIMEZONE
TZID:UTC
BEGIN:STANDARD
TZOFFSETFROM:+0000
TZOFFSETTO:+0000
TZNAME:UTC
DTSTART:20240101T000000
END:STANDARD
END:VTIMEZONE
BEGIN:VEVENT
DTSTART;TZID=UTC:20250124T200000
DTEND;TZID=UTC:20250124T235900
DTSTAMP:20260424T021221
CREATED:20241214T220935Z
LAST-MODIFIED:20241214T220935Z
UID:875-1737748800-1737763140@alienboys.ca
SUMMARY:Punk Beats in Cumberland
DESCRIPTION:w/ Mean Bikini\, Pilsgnar\, 2B-Deterrent \nFundraiser for warm gear for the unhoused
URL:https://alienboys.ca/event/punk-beats-in-cumberland/
LOCATION:Masonic Hall\, 2687 Dunsmuir Ave\, Cumberland\, BC\, V0R 1S0\, Canada
ATTACH;FMTTYPE=image/jpeg:https://alienboys.ca/wp-content/uploads/2024/12/PunkBeats2_Poster_ForWeb_v2-small.jpg
END:VEVENT
BEGIN:VEVENT
DTSTART;TZID=UTC:20250125T200000
DTEND;TZID=UTC:20250125T235900
DTSTAMP:20260424T021221
CREATED:20241214T221837Z
LAST-MODIFIED:20250816T200108Z
UID:880-1737835200-1737849540@alienboys.ca
SUMMARY:Nanaimo @ Crace Mountain
DESCRIPTION:w/ kmvp and Big Ethel
URL:https://alienboys.ca/event/nanaimo-crace-mountain/
LOCATION:Crace Mountain\, Nanaimo\, BC\, Canada
ATTACH;FMTTYPE=image/jpeg:https://alienboys.ca/wp-content/uploads/2024/12/Nanaimo-crace-mountain-jan-25-2025.jpg
END:VEVENT
END:VCALENDAR