BEGIN:VCALENDAR
VERSION:2.0
PRODID:-//Alien Boys - ECPv6.15.20//NONSGML v1.0//EN
CALSCALE:GREGORIAN
METHOD:PUBLISH
X-WR-CALNAME:Alien Boys
X-ORIGINAL-URL:https://alienboys.ca
X-WR-CALDESC:Events for Alien Boys
REFRESH-INTERVAL;VALUE=DURATION:PT1H
X-Robots-Tag:noindex
X-PUBLISHED-TTL:PT1H
BEGIN:VTIMEZONE
TZID:America/Moncton
BEGIN:DAYLIGHT
TZOFFSETFROM:-0400
TZOFFSETTO:-0300
TZNAME:ADT
DTSTART:20160313T060000
END:DAYLIGHT
BEGIN:STANDARD
TZOFFSETFROM:-0300
TZOFFSETTO:-0400
TZNAME:AST
DTSTART:20161106T050000
END:STANDARD
BEGIN:DAYLIGHT
TZOFFSETFROM:-0400
TZOFFSETTO:-0300
TZNAME:ADT
DTSTART:20170312T060000
END:DAYLIGHT
BEGIN:STANDARD
TZOFFSETFROM:-0300
TZOFFSETTO:-0400
TZNAME:AST
DTSTART:20171105T050000
END:STANDARD
BEGIN:DAYLIGHT
TZOFFSETFROM:-0400
TZOFFSETTO:-0300
TZNAME:ADT
DTSTART:20180311T060000
END:DAYLIGHT
BEGIN:STANDARD
TZOFFSETFROM:-0300
TZOFFSETTO:-0400
TZNAME:AST
DTSTART:20181104T050000
END:STANDARD
END:VTIMEZONE
BEGIN:VTIMEZONE
TZID:UTC
BEGIN:STANDARD
TZOFFSETFROM:+0000
TZOFFSETTO:+0000
TZNAME:UTC
DTSTART:20160101T000000
END:STANDARD
END:VTIMEZONE
BEGIN:VTIMEZONE
TZID:America/Winnipeg
BEGIN:DAYLIGHT
TZOFFSETFROM:-0600
TZOFFSETTO:-0500
TZNAME:CDT
DTSTART:20160313T080000
END:DAYLIGHT
BEGIN:STANDARD
TZOFFSETFROM:-0500
TZOFFSETTO:-0600
TZNAME:CST
DTSTART:20161106T070000
END:STANDARD
BEGIN:DAYLIGHT
TZOFFSETFROM:-0600
TZOFFSETTO:-0500
TZNAME:CDT
DTSTART:20170312T080000
END:DAYLIGHT
BEGIN:STANDARD
TZOFFSETFROM:-0500
TZOFFSETTO:-0600
TZNAME:CST
DTSTART:20171105T070000
END:STANDARD
BEGIN:DAYLIGHT
TZOFFSETFROM:-0600
TZOFFSETTO:-0500
TZNAME:CDT
DTSTART:20180311T080000
END:DAYLIGHT
BEGIN:STANDARD
TZOFFSETFROM:-0500
TZOFFSETTO:-0600
TZNAME:CST
DTSTART:20181104T070000
END:STANDARD
END:VTIMEZONE
BEGIN:VEVENT
DTSTART;TZID=America/Moncton:20170827T210000
DTEND;TZID=America/Moncton:20170827T233000
DTSTAMP:20260420T033819
CREATED:20170723T005722Z
LAST-MODIFIED:20220915T064210Z
UID:100-1503867600-1503876600@alienboys.ca
SUMMARY:Charlottetown  @ Baba's
DESCRIPTION:
URL:https://alienboys.ca/event/charlottetown-babas/
LOCATION:ON
CATEGORIES:dog days 2017
END:VEVENT
BEGIN:VEVENT
DTSTART;TZID=UTC:20170826T183000
DTEND;TZID=UTC:20170826T210000
DTSTAMP:20260420T033819
CREATED:20170723T003000Z
LAST-MODIFIED:20171110T224854Z
UID:73-1503772200-1503781200@alienboys.ca
SUMMARY:Halifax @ Rad Storm
DESCRIPTION:CATCH 6 DEVASTATING BaNDS🔇💥💀DBEAT til DEATH \nALIEN BOYS- touring from Vancouver!!! ripping dbeat punk to make your heart race and your brain implode: https://alienboys.bandcamp.com/releases \nDesperate Times \nIMBOLIX- New local d-beat inspired femme space punk! 💅🚀💥WTF \nand Geil\, Out Cry\, Cutie \nDoors @ 6:30pm\nShow @ 7:00pm
URL:https://alienboys.ca/event/halifax-rad-storm/
LOCATION:Rad Storm\, 6050 Almon St\, Halifax\, NB\, Canada
CATEGORIES:dog days 2017
ATTACH;FMTTYPE=image/jpeg:https://alienboys.ca/wp-content/uploads/2017/07/Halifax-2017.jpg
END:VEVENT
BEGIN:VEVENT
DTSTART;TZID=UTC:20170825T210000
DTEND;TZID=UTC:20170825T230000
DTSTAMP:20260420T033819
CREATED:20170723T002512Z
LAST-MODIFIED:20170723T054957Z
UID:70-1503694800-1503702000@alienboys.ca
SUMMARY:Moncton @ Claude House
DESCRIPTION:w/ Fear Agent\, Warsick\, and Iris
URL:https://alienboys.ca/event/moncton-claude-house/
LOCATION:Claude House
CATEGORIES:dog days 2017
END:VEVENT
BEGIN:VEVENT
DTSTART;TZID=UTC:20170823T200000
DTEND;TZID=UTC:20170823T230000
DTSTAMP:20260420T033819
CREATED:20170723T002208Z
LAST-MODIFIED:20170723T054958Z
UID:65-1503518400-1503529200@alienboys.ca
SUMMARY:Montreal @ Casa del Popolo
DESCRIPTION:Sek [Montréal]\nNew Local D-beat Slay Machines \nTotal Bliss [Montréal]\nMutant Slam Rock \n+1 More TBA \nDoors 8\nShow @ 9\nFuck Punk Time\nNO JERKS NO COPS \nCasa is is located on unceded\, Kanien’kehá:ka traditional territory
URL:https://alienboys.ca/event/montreal-casa-del-popolo/
LOCATION:Casa Del Popolo\, 4848 Blvd Saint-Laurent\, Montreal\, QC\, Canada
CATEGORIES:dog days 2017
END:VEVENT
BEGIN:VEVENT
DTSTART;TZID=UTC:20170820T210000
DTEND;TZID=UTC:20170821T010000
DTSTAMP:20260420T033819
CREATED:20170723T001701Z
LAST-MODIFIED:20171110T225044Z
UID:62-1503262800-1503277200@alienboys.ca
SUMMARY:London @ East Village Arts
DESCRIPTION:w/ Susans\, Hundred Handers\, Nothing
URL:https://alienboys.ca/event/london-east-village-arts/
LOCATION:East Village Arts\, London\, ON\, Canada
CATEGORIES:dog days 2017
ATTACH;FMTTYPE=image/jpeg:https://alienboys.ca/wp-content/uploads/2017/07/London-2017.jpg
END:VEVENT
BEGIN:VEVENT
DTSTART;TZID=UTC:20170819T200000
DTEND;TZID=UTC:20170819T230000
DTSTAMP:20260420T033819
CREATED:20170723T001513Z
LAST-MODIFIED:20170723T054959Z
UID:58-1503172800-1503183600@alienboys.ca
SUMMARY:Kitchener @ The Snake Pit
DESCRIPTION:Chaos\, Disorder & Panic\, Ugly Mommy\, Shit Rat  \n$$$: $5.00 PWYC\nMusic: 8:00pm\nVibes: BYOeverything
URL:https://alienboys.ca/event/kitchener-the-snake-pit/
LOCATION:The Snakepit\, Kitchener\, ON\, Canada
CATEGORIES:dog days 2017
ATTACH;FMTTYPE=image/jpeg:https://alienboys.ca/wp-content/uploads/2017/07/20229424_10159003533425032_782146162229757590_o.jpg
END:VEVENT
BEGIN:VEVENT
DTSTART;TZID=UTC:20170818T210000
DTEND;TZID=UTC:20170819T000000
DTSTAMP:20260420T033819
CREATED:20170722T232616Z
LAST-MODIFIED:20170723T055000Z
UID:55-1503090000-1503100800@alienboys.ca
SUMMARY:Sault Ste. Marie @ the Rock Star Bar
DESCRIPTION:
URL:https://alienboys.ca/event/sault-ste-marie-the-rock-star-bar/
LOCATION:The Rock Star Bar\, Sault Ste. Marie\, ON\, Canada
CATEGORIES:dog days 2017
END:VEVENT
BEGIN:VEVENT
DTSTART;TZID=America/Winnipeg:20170814T200000
DTEND;TZID=America/Winnipeg:20170814T233000
DTSTAMP:20260420T033819
CREATED:20170722T232225Z
LAST-MODIFIED:20220915T063658Z
UID:52-1502740800-1502753400@alienboys.ca
SUMMARY:Winnipeg @ The Handsome Daughter
DESCRIPTION:w/ SKUNK\, WHIP\, and CRATERFACE\nMonday night early show!
URL:https://alienboys.ca/event/winnipeg-the-handsome-daughter/
LOCATION:The Handsome Daughter\, pin Show Map The Handsome Daughter 61 Sherbrook St\, Winnipeg\, MB\, Canada
CATEGORIES:dog days 2017
END:VEVENT
BEGIN:VEVENT
DTSTART;TZID=UTC:20170813T190000
DTEND;TZID=UTC:20170813T230000
DTSTAMP:20260420T033819
CREATED:20170722T231552Z
LAST-MODIFIED:20170723T055000Z
UID:49-1502650800-1502665200@alienboys.ca
SUMMARY:Saskatoon @ Sask Indoor Skatepark
DESCRIPTION:Presented by Girls Rock Camp and Right to Skate Co-Present \nw/ \nThe Baby Fats (Saskatoon)\n4-piece feminist punk rock heroes. Local. \nAncient Pig\nEveryone’s favourite worst band ever. Local. \nAll Ages.\nNo drugs.\nNo booze.\nNo violence.\nNo racism/sexism/transphobia/homophobia.\nNo jerks. \nEARLY SHOW!\n$12\nN.O.T.A.F.L.O.F\n(No one turned away for lack of funds). \nxx
URL:https://alienboys.ca/event/saskatoon-sask-indoor-skatepark/
LOCATION:Saskatoon Indoor Skatepark\, 2120 St.George Ave. - use back alley entrance\, Saskatoon\, SK\, Canada
CATEGORIES:dog days 2017
END:VEVENT
BEGIN:VEVENT
DTSTART;TZID=UTC:20170812T210000
DTEND;TZID=UTC:20170813T010000
DTSTAMP:20260420T033819
CREATED:20170722T230401Z
LAST-MODIFIED:20170723T055017Z
UID:42-1502571600-1502586000@alienboys.ca
SUMMARY:Edmonton @ Bohemia
DESCRIPTION:18+ \nw/ Languid\, Paroxysm
URL:https://alienboys.ca/event/edmonton-bohemia/
LOCATION:Bohemia\, 10217 97 Street NW\, Edmonton\, AB\, T5J 0L5\, Canada
CATEGORIES:dog days 2017
END:VEVENT
BEGIN:VEVENT
DTSTART;TZID=UTC:20170811T190000
DTEND;TZID=UTC:20170812T010000
DTSTAMP:20260420T033819
CREATED:20170722T230155Z
LAST-MODIFIED:20170723T055017Z
UID:40-1502478000-1502499600@alienboys.ca
SUMMARY:Cambala (near Prince George)
DESCRIPTION:
URL:https://alienboys.ca/event/cambala-near-prince-george/
LOCATION:ON
CATEGORIES:dog days 2017
END:VEVENT
BEGIN:VEVENT
DTSTART;TZID=UTC:20170804T200000
DTEND;TZID=UTC:20170804T230000
DTSTAMP:20260420T033819
CREATED:20170722T223252Z
LAST-MODIFIED:20170723T055017Z
UID:35-1501876800-1501887600@alienboys.ca
SUMMARY:Tour Kickoff Show in Vancouver
DESCRIPTION:We are leaving to gig across Canada this summer! \nSend off some punks as we prepare to face some damn long drives? \nPlaying with our dear friends \nKONFORM\nVancouver crusters\n\nand WANT\nVancouver hardcore \nRespect the venue//respect the neighbourhood//respect each other
URL:https://alienboys.ca/event/tour-kickoff-show-in-vancouver/
LOCATION:The Black Lab\, Unceded Coast Salish Territory\, Vancouver\, BC\, Canada
CATEGORIES:dog days 2017
ATTACH;FMTTYPE=image/jpeg:https://alienboys.ca/wp-content/uploads/2017/07/18953359_791155124379744_5970506211263978406_o.jpg
END:VEVENT
BEGIN:VEVENT
DTSTART;TZID=UTC:20170729T170000
DTEND;TZID=UTC:20170729T210000
DTSTAMP:20260420T033819
CREATED:20170722T222127Z
LAST-MODIFIED:20170722T222127Z
UID:30-1501347600-1501362000@alienboys.ca
SUMMARY:Cheers to 3 Years: Backyard\, Bands & BBQ
DESCRIPTION:BBQ to celebrate Dalyce & Daver’s anniversary \n$10 for Keg Beer and/or BYOB\nHot Dogs for days … however …\nBYOMeat\, VeganSubstitute\, Shrimp for the Barbie\ncome early\, take a dip\, eat some food\, get hydrated  \nw/ The Strugglers\, Uptown Riot & The Side Effects.
URL:https://alienboys.ca/event/cheers-to-3-years-backyard-bands-bbq/
LOCATION:6453 Grant Street\, Burnaby\, Canada
ATTACH;FMTTYPE=image/jpeg:https://alienboys.ca/wp-content/uploads/2017/07/19944396_1431372366950734_8502347575941464262_o.jpg
END:VEVENT
END:VCALENDAR