BEGIN:VCALENDAR
VERSION:2.0
PRODID:-//Alien Boys - ECPv6.15.20//NONSGML v1.0//EN
CALSCALE:GREGORIAN
METHOD:PUBLISH
X-WR-CALNAME:Alien Boys
X-ORIGINAL-URL:https://alienboys.ca
X-WR-CALDESC:Events for Alien Boys
REFRESH-INTERVAL;VALUE=DURATION:PT1H
X-Robots-Tag:noindex
X-PUBLISHED-TTL:PT1H
BEGIN:VTIMEZONE
TZID:UTC
BEGIN:STANDARD
TZOFFSETFROM:+0000
TZOFFSETTO:+0000
TZNAME:UTC
DTSTART:20160101T000000
END:STANDARD
END:VTIMEZONE
BEGIN:VTIMEZONE
TZID:America/Regina
BEGIN:STANDARD
TZOFFSETFROM:-0600
TZOFFSETTO:-0600
TZNAME:CST
DTSTART:20160101T000000
END:STANDARD
END:VTIMEZONE
BEGIN:VTIMEZONE
TZID:America/Winnipeg
BEGIN:DAYLIGHT
TZOFFSETFROM:-0600
TZOFFSETTO:-0500
TZNAME:CDT
DTSTART:20160313T080000
END:DAYLIGHT
BEGIN:STANDARD
TZOFFSETFROM:-0500
TZOFFSETTO:-0600
TZNAME:CST
DTSTART:20161106T070000
END:STANDARD
BEGIN:DAYLIGHT
TZOFFSETFROM:-0600
TZOFFSETTO:-0500
TZNAME:CDT
DTSTART:20170312T080000
END:DAYLIGHT
BEGIN:STANDARD
TZOFFSETFROM:-0500
TZOFFSETTO:-0600
TZNAME:CST
DTSTART:20171105T070000
END:STANDARD
BEGIN:DAYLIGHT
TZOFFSETFROM:-0600
TZOFFSETTO:-0500
TZNAME:CDT
DTSTART:20180311T080000
END:DAYLIGHT
BEGIN:STANDARD
TZOFFSETFROM:-0500
TZOFFSETTO:-0600
TZNAME:CST
DTSTART:20181104T070000
END:STANDARD
END:VTIMEZONE
BEGIN:VTIMEZONE
TZID:America/Toronto
BEGIN:DAYLIGHT
TZOFFSETFROM:-0500
TZOFFSETTO:-0400
TZNAME:EDT
DTSTART:20160313T070000
END:DAYLIGHT
BEGIN:STANDARD
TZOFFSETFROM:-0400
TZOFFSETTO:-0500
TZNAME:EST
DTSTART:20161106T060000
END:STANDARD
BEGIN:DAYLIGHT
TZOFFSETFROM:-0500
TZOFFSETTO:-0400
TZNAME:EDT
DTSTART:20170312T070000
END:DAYLIGHT
BEGIN:STANDARD
TZOFFSETFROM:-0400
TZOFFSETTO:-0500
TZNAME:EST
DTSTART:20171105T060000
END:STANDARD
BEGIN:DAYLIGHT
TZOFFSETFROM:-0500
TZOFFSETTO:-0400
TZNAME:EDT
DTSTART:20180311T070000
END:DAYLIGHT
BEGIN:STANDARD
TZOFFSETFROM:-0400
TZOFFSETTO:-0500
TZNAME:EST
DTSTART:20181104T060000
END:STANDARD
END:VTIMEZONE
BEGIN:VTIMEZONE
TZID:America/Moncton
BEGIN:DAYLIGHT
TZOFFSETFROM:-0400
TZOFFSETTO:-0300
TZNAME:ADT
DTSTART:20160313T060000
END:DAYLIGHT
BEGIN:STANDARD
TZOFFSETFROM:-0300
TZOFFSETTO:-0400
TZNAME:AST
DTSTART:20161106T050000
END:STANDARD
BEGIN:DAYLIGHT
TZOFFSETFROM:-0400
TZOFFSETTO:-0300
TZNAME:ADT
DTSTART:20170312T060000
END:DAYLIGHT
BEGIN:STANDARD
TZOFFSETFROM:-0300
TZOFFSETTO:-0400
TZNAME:AST
DTSTART:20171105T050000
END:STANDARD
BEGIN:DAYLIGHT
TZOFFSETFROM:-0400
TZOFFSETTO:-0300
TZNAME:ADT
DTSTART:20180311T060000
END:DAYLIGHT
BEGIN:STANDARD
TZOFFSETFROM:-0300
TZOFFSETTO:-0400
TZNAME:AST
DTSTART:20181104T050000
END:STANDARD
END:VTIMEZONE
BEGIN:VEVENT
DTSTART;VALUE=DATE:20191016
DTEND;VALUE=DATE:20191018
DTSTAMP:20260420T052023
CREATED:20190908T020705Z
LAST-MODIFIED:20190908T033426Z
UID:303-1571194800-1571281199@alienboys.ca
SUMMARY:Providence RI
DESCRIPTION:
URL:https://alienboys.ca/event/providence-ri/
LOCATION:AS220\, 115 Empire Street\, Providence\, RI\, 02903\, United States
CATEGORIES:Eastern Invasion 2019
END:VEVENT
BEGIN:VEVENT
DTSTART;VALUE=DATE:20191014
DTEND;VALUE=DATE:20191016
DTSTAMP:20260420T052023
CREATED:20190908T020609Z
LAST-MODIFIED:20190908T033258Z
UID:300-1571022000-1571108399@alienboys.ca
SUMMARY:Brooklyn NY
DESCRIPTION:
URL:https://alienboys.ca/event/philadelphia-pa/
LOCATION:Alphaville\, 140 Wilson Avenue\, Brooklyn\, NY\, 11206\, United States
CATEGORIES:Eastern Invasion 2019
END:VEVENT
BEGIN:VEVENT
DTSTART;VALUE=DATE:20191013
DTEND;VALUE=DATE:20191015
DTSTAMP:20260420T052023
CREATED:20190908T021607Z
LAST-MODIFIED:20190908T025345Z
UID:323-1570935600-1571021999@alienboys.ca
SUMMARY:Philadelphia PA
DESCRIPTION:
URL:https://alienboys.ca/event/philadelphia-pa-2/
LOCATION:MI
CATEGORIES:Eastern Invasion 2019
END:VEVENT
BEGIN:VEVENT
DTSTART;VALUE=DATE:20191012
DTEND;VALUE=DATE:20191014
DTSTAMP:20260420T052023
CREATED:20190908T020437Z
LAST-MODIFIED:20190908T040302Z
UID:298-1570849200-1570935599@alienboys.ca
SUMMARY:Baltimore MD
DESCRIPTION:
URL:https://alienboys.ca/event/baltimore-md/
LOCATION:Asian Taste\, 916 W 36th Street\, Baltimore\, MD\, 21211\, United States
CATEGORIES:Eastern Invasion 2019
END:VEVENT
BEGIN:VEVENT
DTSTART;VALUE=DATE:20191011
DTEND;VALUE=DATE:20191013
DTSTAMP:20260420T052023
CREATED:20190908T020353Z
LAST-MODIFIED:20190908T040316Z
UID:296-1570762800-1570849199@alienboys.ca
SUMMARY:Richmond VA
DESCRIPTION:
URL:https://alienboys.ca/event/richmond-va/
LOCATION:MI
CATEGORIES:Eastern Invasion 2019
END:VEVENT
BEGIN:VEVENT
DTSTART;VALUE=DATE:20191010
DTEND;VALUE=DATE:20191012
DTSTAMP:20260420T052023
CREATED:20190908T020329Z
LAST-MODIFIED:20190908T025345Z
UID:294-1570676400-1570762799@alienboys.ca
SUMMARY:Pittsburgh PA
DESCRIPTION:
URL:https://alienboys.ca/event/pittsburgh-pa/
LOCATION:MI
CATEGORIES:Eastern Invasion 2019
END:VEVENT
BEGIN:VEVENT
DTSTART;TZID=UTC:20190928T200000
DTEND;TZID=UTC:20190929T000000
DTSTAMP:20260420T052023
CREATED:20190907T231301Z
LAST-MODIFIED:20190908T025345Z
UID:289-1569700800-1569715200@alienboys.ca
SUMMARY:Tour kickoff show in Vancouver
DESCRIPTION:w/ Sore Points\, Lié and Starvation. 19+
URL:https://alienboys.ca/event/tour-kickoff-show-in-vancouver-2/
LOCATION:East Van Boxing Club\, 238 Keefer St\, Vancouver\, BC\, V6A 1X5\, Canada
CATEGORIES:Eastern Invasion 2019
ATTACH;FMTTYPE=image/jpeg:https://alienboys.ca/wp-content/uploads/2019/09/AlienBoys-2019-tour-kickoff-poster-color-websize.jpg
END:VEVENT
BEGIN:VEVENT
DTSTART;TZID=UTC:20190209T190000
DTEND;TZID=UTC:20190210T010000
DTSTAMP:20260420T052023
CREATED:20190107T052012Z
LAST-MODIFIED:20190107T052701Z
UID:268-1549738800-1549760400@alienboys.ca
SUMMARY:Night Danger Album Release
DESCRIPTION:Mark your calendar! \nWe are very excited to announce the release of our first full length record\, two years in the making\, “Night Danger” on Desolate Records\, for Saturday Feb 9 at the Wise Hall! \nOpening up will be: \nFASHIONISM\nhttps://fashionism.bandcamp.com/ \nDead Cells\nhttps://deadcells.bandcamp.com/releases \nSTARVATION\nhttps://starvationhc.bandcamp.com/releases \n19+ (sorry kids) \nAdvance tickets at Brown Paper Tickets
URL:https://alienboys.ca/event/night-danger-album-release/
LOCATION:Wise Hall\, 1882 Adanac Street\, Vancouver\, BC\, Canada
ATTACH;FMTTYPE=image/jpeg:https://alienboys.ca/wp-content/uploads/2019/01/feb-9-2019-album-release.jpg
END:VEVENT
BEGIN:VEVENT
DTSTART;TZID=UTC:20190112T190000
DTEND;TZID=UTC:20190112T220000
DTSTAMP:20260420T052023
CREATED:20190107T060651Z
LAST-MODIFIED:20190107T060651Z
UID:272-1547319600-1547330400@alienboys.ca
SUMMARY:Tsawwassen Show
DESCRIPTION:All Ages! \nw/ Obsidian and Death Preacher
URL:https://alienboys.ca/event/tsawwassen-show/
LOCATION:Tsawwassen Legion\, 22-1835 56 Street\, Tsawwasswn\, BC\, V4L 2L8\, Canada
ATTACH;FMTTYPE=image/jpeg:https://alienboys.ca/wp-content/uploads/2019/01/tsawwassen-2019.jpg
END:VEVENT
BEGIN:VEVENT
DTSTART;TZID=UTC:20181124T193000
DTEND;TZID=UTC:20181124T230000
DTSTAMP:20260420T052023
CREATED:20181112T004334Z
LAST-MODIFIED:20181112T004334Z
UID:263-1543087800-1543100400@alienboys.ca
SUMMARY:Alf Haus Show
DESCRIPTION:All ages. Money from this show will go toward High Hopes foundation\, a group that provides low-cost or free cannabis products as an alternative for pain management to opioid users in the Downtown Eastside. They recently were raided by the VPD and a bunch of their stuff was seized! You can read more about them here: https://www.cbc.ca/news/canada/british-columbia/high-hopes-foundation-1.4265850?fbclid=IwAR3nAGNYWhb7vfR8qU2yiJPN7Qb282iooaNbmxD1Azb6q-uGcVgHuwjLK4o\nw/Spike Girls\,  Emma Goldman and King Diamond Tut
URL:https://alienboys.ca/event/alf-haus-show/
LOCATION:Alf House
END:VEVENT
BEGIN:VEVENT
DTSTART;TZID=UTC:20181110T200000
DTEND;TZID=UTC:20181111T010000
DTSTAMP:20260420T052023
CREATED:20181011T045509Z
LAST-MODIFIED:20181012T012305Z
UID:233-1541880000-1541898000@alienboys.ca
SUMMARY:Dead Boys: Young Loud and Snotty at 40
DESCRIPTION:With the Dead Boys\nhttps://www.youtube.com/watch?v=QmV6mdsCHN0 \nThe Gung Hos\nhttps://bullittrecords.bandcamp.com/album/the-gung-hos \netickets available at tunestub. Physical tickets at both RedCats and Neptoon. This will sell out! Get on it! \nPoster by Rich Katynski\nhttps://www.richkdesign.com/
URL:https://alienboys.ca/event/dead-boys-young-loud-and-snotty-at-40/
LOCATION:Pat’s Pub\, 403 East Hastings\, Vancouver\, BC\, V6A 1P6\, Canada
ATTACH;FMTTYPE=image/jpeg:https://alienboys.ca/wp-content/uploads/2018/10/DeadBoys2018.jpg
END:VEVENT
BEGIN:VEVENT
DTSTART;VALUE=DATE:20181104
DTEND;VALUE=DATE:20181106
DTSTAMP:20260420T052023
CREATED:20181011T044203Z
LAST-MODIFIED:20181011T044203Z
UID:231-1541300400-1541386799@alienboys.ca
SUMMARY:Frank Love Tour Kickoff
DESCRIPTION:Venue and details TBA
URL:https://alienboys.ca/event/frank-love-tour-kickoff/
LOCATION:MI
END:VEVENT
BEGIN:VEVENT
DTSTART;TZID=UTC:20181020T190000
DTEND;TZID=UTC:20181020T230000
DTSTAMP:20260420T052023
CREATED:20181011T043711Z
LAST-MODIFIED:20181012T012536Z
UID:229-1540062000-1540076400@alienboys.ca
SUMMARY:Black Lab Four Year Anniversary
DESCRIPTION:THE BLACK LAB IS TURNING 4 AND WE’RE THROWING A PARTY TO CELEBRATE. \nFEATURING \nCLOACA (LAST SHOW EVER)\nhttps://cloaca.bandcamp.com/ \nSPECTERS\nhttps://spectresvancouver.bandcamp.com/ \nALIEN BOYS\nhttps://alienboys.bandcamp.com/releases \nPALM OIL\nhttps://palmoil.bandcamp.com/releases \nNIC FIT\nhttps://nicfitvan.bandcamp.com/releases \nFRENUM \n50/50 RAFFLE \nDRINK SPECIALS \nDOORS AT 6:30PM // FIRST BAND AT 7PM \n$15 // NOTAFLOF \n— \nSafer Spaces – http://theblacklabvancouver.tumblr.com/saferspaces \nBasic Accessibility Info – http://theblacklabvancouver.tumblr.com/accessibility
URL:https://alienboys.ca/event/black-lab-four-year-anniversary/
LOCATION:The Black Lab\, Unceded Coast Salish Territory\, Vancouver\, BC\, Canada
ATTACH;FMTTYPE=image/jpeg:https://alienboys.ca/wp-content/uploads/2018/10/BlackLabAnniversary.jpg
END:VEVENT
BEGIN:VEVENT
DTSTART;TZID=UTC:20181013T150000
DTEND;TZID=UTC:20181014T030000
DTSTAMP:20260420T052023
CREATED:20181011T040853Z
LAST-MODIFIED:20181011T040853Z
UID:225-1539442800-1539486000@alienboys.ca
SUMMARY:GLAM FEST
DESCRIPTION:This event takes place on the occupied\, unceded and ancestral territories of the xʷməθkʷəy̓əm (Musqueam)\, səl̓ilwətaɁɬ (Tsleil-Waututh) and Sḵwx̱wú7mesh (Squamish) Coast Salish Nations.\n~~~~~~~~~~~~~~~~~~~~~~~~~~~~~~~~~~~~~~~~~~~~~~~~~~ \n👁️ 👁️ 👁️ GLAM FEST 2018 👁️ 👁️ 👁️ \nBring your best leather\, jewels\, glitter and hair spray to Red Gate for the first ever GLAM FEST! Costumes REQUIRED for this day-long adventure featuring OVER 20 FAB LOCAL BANDS\, and two rooms/stages full of nothing but GLAM\, GLAM\, GLAM\, honey. \n💄 DAY PASS: $25 / $20 if ur GLAMmed up @ the door 💅\n💄 AFTER 11: $15\n💄 NOTAFLAF \nMUSIC STARTS AT 3PM/ENDS LATE 😉 \n💀LINEUP:💀 \n👄 Eric Campbell & The Dirt – https://ericcampbellandthedirt.bandcamp.com/ \n👄 Group Vision – https://number213.bandcamp.com/album/n-213s-group-vision \n👄 Devours – https://devours.bandcamp.com/ \n👄 Prxncxss Aprntly \n👄 Monsoon Moon – https://monsoonmoonunit.bandcamp.com/ \n👄 Teak Physique – https://teakphysique.bandcamp.com/ \n👄 Bored Décor – https://boreddecor.bandcamp.com/ \n👄 Miserable Cunt \n👄 Emma Goldman – https://emmagoldmanpunk.bandcamp.com/ \n👄 Freak Dream – https://freakdream.bandcamp.com/ \n👄 Mr Merlot – https://smoothfx.bandcamp.com/ \n👄 Terrifying Girls’ High School – https://tghs.bandcamp.com/ \n👄 Parlour Panther – https://parlourpanther.bandcamp.com/ \n👄 pukesword – https://pukesword.bandcamp.com/ \n👄 Spesh Pep – https://speshpep.bandcamp.com/ \n👄 Sigsaly – koban – https://sigsaly.bandcamp.com/releases \n👄 Rambone & The Wet Reality – https://rambone.bandcamp.com/ \n👄 Ma$$ank – https://soundcloud.com/michellecm \n👄 Diva Plavalaguna \n👄 Alien Boys – https://alienboys.bandcamp.com/releases \n👄 EXEUNT \n★★★★★★★★★★★★★★★★★★★★★★★★★★★★★★★★★★★★★★★ \n~BUDDY SYSTEM~ \nThis event does not tolerate discrimination or harassment of any kind. We strive to create a safe space for all attendees. This means: \nNO homophobia\nNO queerphobia\nNO transphobia\nNO sexism\nNO racism\nNO fatphobia\nNO ableism \nWe will have a buddy system in place to support and address any issues of health or safety that may arise. More details to come! \n★★★★★★★★★★★★★★★★★★★★★★★★★★★★★★★★★★★★★★★ \n~ACCESSIBILITY INFO:~ \nEntrance:\n-small short ramp at a steep angle\n-30% slope on one side to a 10% on the other side\n-we’re happy to provide assistance\, let us know in advance if possible! \nMain room (where the show will be):\n68″ opening\, large open space inside \nAccessible bathroom:\n-doorway 35 ”\n-room size 95″ ×71″\n-mostly empty\, no bar beside the toilet\n-all bathrooms are all-genders \nDoorway from the main room to the back:\n-double doors: 70″ \nBalcony:\n-3″ lip at balcony doorway\n-long staircase to the outdoor “courtyard” \nDoorways from main room to the bar area:\n-59″ and 72″ \nDo not hesitate to email glamfestvan@gmail.com with any questions or concerns! ♥ 🙂
URL:https://alienboys.ca/event/glam-fest/
LOCATION:Red Gate Arts Society\, 1965 Main Street\, Vancouver\, BC\, V5T 3C1\, Canada
ATTACH;FMTTYPE=image/jpeg:https://alienboys.ca/wp-content/uploads/2018/10/GlamFest2018.jpg
END:VEVENT
BEGIN:VEVENT
DTSTART;VALUE=DATE:20181007
DTEND;VALUE=DATE:20181009
DTSTAMP:20260420T052023
CREATED:20180929T224320Z
LAST-MODIFIED:20180929T225439Z
UID:217-1538881200-1538967599@alienboys.ca
SUMMARY:Winlaw at Metal Church
DESCRIPTION:
URL:https://alienboys.ca/event/winlaw-at-metal-church/
LOCATION:Metal Church\, Winlaw\, BC\, Canada
CATEGORIES:Western Orbit 2018
END:VEVENT
BEGIN:VEVENT
DTSTART;TZID=UTC:20181006T210000
DTEND;TZID=UTC:20181007T000000
DTSTAMP:20260420T052023
CREATED:20180929T223239Z
LAST-MODIFIED:20181012T012757Z
UID:212-1538859600-1538870400@alienboys.ca
SUMMARY:Calgary at Tubby Dog
DESCRIPTION:w/ Paradise and Chips of Oi
URL:https://alienboys.ca/event/calgary-at-tubby-dog/
LOCATION:Tubby Dog\, 1022 - 17 Ave SW # 103\, Calgary\, AB\, Canada
CATEGORIES:Western Orbit 2018
ATTACH;FMTTYPE=image/jpeg:https://alienboys.ca/wp-content/uploads/2018/09/Calgary2018.jpg
END:VEVENT
BEGIN:VEVENT
DTSTART;TZID=UTC:20181005T210000
DTEND;TZID=UTC:20181006T010000
DTSTAMP:20260420T052023
CREATED:20180929T222815Z
LAST-MODIFIED:20180929T225505Z
UID:208-1538773200-1538787600@alienboys.ca
SUMMARY:Alien Boys in Edmonton
DESCRIPTION:Vancouver BC’s ALIEN BOYS are rippin through town\, so here’s an ALL AGES show. Joined by Edmonton heavies PAROXYSM and maybe some guests. \nhttps://alienboys.bandcamp.com/\nhttps://www.facebook.com/alienboysvancouver/ \nhttps://paroxysmofficial.bandcamp.com/\nhttps://www.facebook.com/ParoxysmYeg/ \n9:00 (early end)\n$10 at the door\nSupport touring bands\nDon’t wreck the bathrooms
URL:https://alienboys.ca/event/alien-boys-in-edmonton/
LOCATION:The Grizzlar\, 10557 109 Street\, Edmonton\, AB\, T5H3B1\, Canada
CATEGORIES:Western Orbit 2018
ATTACH;FMTTYPE=image/jpeg:https://alienboys.ca/wp-content/uploads/2018/09/Edmonton2018.jpg
END:VEVENT
BEGIN:VEVENT
DTSTART;VALUE=DATE:20181003
DTEND;VALUE=DATE:20181005
DTSTAMP:20260420T052023
CREATED:20180929T222043Z
LAST-MODIFIED:20181001T021026Z
UID:205-1538535600-1538621999@alienboys.ca
SUMMARY:Kamloops at the Grindhouse
DESCRIPTION:
URL:https://alienboys.ca/event/kamloops-at-the-grindhouse/
LOCATION:The Grindhouse\, 100-125 4th Ave\, Kamloops\, BC\, V2C 3N3\, Canada
CATEGORIES:Western Orbit 2018
ATTACH;FMTTYPE=image/jpeg:https://alienboys.ca/wp-content/uploads/2018/09/Kamloops2018.jpg
END:VEVENT
BEGIN:VEVENT
DTSTART;TZID=UTC:20180507T200000
DTEND;TZID=UTC:20180507T230000
DTSTAMP:20260420T052023
CREATED:20180507T025928Z
LAST-MODIFIED:20180507T025928Z
UID:201-1525723200-1525734000@alienboys.ca
SUMMARY:Kickin out new jams
DESCRIPTION:SYRINGE on tour from Baltimore\nhttps://syringe410.bandcamp.com/\nsome really (!!!) good queer hardcore punk \nwith locals \nALIEN BOYS – back from hiatus with tons of new jams!\nhttps://alienboys.bandcamp.com/releases \nNO KLASSE\nhttps://noklasse.bandcamp.com/releases\n\nand CHAOS DISORDER & PANIC\nhttps://chaosdisorderandpanic.bandcamp.com/ \n$10\nNOTAFLOF\n8pm\nOver by 11pm!!!\n\n\n\nKid Friendly
URL:https://alienboys.ca/event/kickin-out-new-jams/
LOCATION:The Black Lab\, Unceded Coast Salish Territory\, Vancouver\, BC\, Canada
ATTACH;FMTTYPE=image/jpeg:https://alienboys.ca/wp-content/uploads/2018/05/30171832_817681898425159_2590141448743999388_o.jpg
END:VEVENT
BEGIN:VEVENT
DTSTART;TZID=UTC:20171216T200000
DTEND;TZID=UTC:20171217T010000
DTSTAMP:20260420T052023
CREATED:20171110T202217Z
LAST-MODIFIED:20171203T015324Z
UID:163-1513454400-1513472400@alienboys.ca
SUMMARY:WISE Punk Rock Saturday Night with Bishops Green and Alien Boys
DESCRIPTION:Live at the WISE is SUPER excited to present Bishops Green and Alien Boys with Special Guests for an ALL OUT WISE Punk Rock Saturday Night !!!\nBishops Green‘s Homecoming Show from Europe.\nAlien Boys belated Homecoming Show from across Canada. \nHomecoming ROCK out for Saturday NIGHT!! \nTickets go on Sale Tuesday November 13 at BrownpaperTickets\, Red Cat Records Red Cat Records – Hastings and Highlife Records \nBishops Green\nhttp://bishopsgreen.ca/ \nSpecial Guests:\nLast Kaste\nhttps://lastkaste.bandcamp.com/ \nRED CIRCLE\nhttps://redcircleband.bandcamp.com/
URL:https://alienboys.ca/event/wise-punk-rock-saturday-night-with-bishops-green-and-alien-boys/
LOCATION:Wise Hall\, 1882 Adanac Street\, Vancouver\, BC\, Canada
ATTACH;FMTTYPE=image/jpeg:https://alienboys.ca/wp-content/uploads/2017/12/Bishops-Green-WISE-Dec16.jpg
END:VEVENT
BEGIN:VEVENT
DTSTART;TZID=UTC:20171104T220000
DTEND;TZID=UTC:20171104T220000
DTSTAMP:20260420T052023
CREATED:20171104T222706Z
LAST-MODIFIED:20171104T222706Z
UID:160-1509832800-1509832800@alienboys.ca
SUMMARY:Vicious Cycles 10th Anniversary\, Territories\, Alien Boys at SBC
DESCRIPTION:
URL:https://alienboys.ca/event/vicious-cycles-10th-anniversary-territories-alien-boys-at-sbc/
LOCATION:SBC\, 109 East Hastings\, Vancovuer\, BC\, Canada
END:VEVENT
BEGIN:VEVENT
DTSTART;TZID=UTC:20170909T210000
DTEND;TZID=UTC:20170909T233000
DTSTAMP:20260420T052023
CREATED:20170723T005803Z
LAST-MODIFIED:20220915T061359Z
UID:109-1504990800-1504999800@alienboys.ca
SUMMARY:Kamloops @ Vortexas
DESCRIPTION:w/ the Sound City Hooligans
URL:https://alienboys.ca/event/kamloops-2/
LOCATION:MI
CATEGORIES:dog days 2017
END:VEVENT
BEGIN:VEVENT
DTSTART;TZID=UTC:20170908T210000
DTEND;TZID=UTC:20170908T210000
DTSTAMP:20260420T052023
CREATED:20170723T005759Z
LAST-MODIFIED:20171110T223616Z
UID:108-1504904400-1504904400@alienboys.ca
SUMMARY:Calgary @ Tubby Dog
DESCRIPTION:BluntWizard / Bearontheloose invites you to Tubby Dog for an evening of Hardcore Punk and Sloppy Dogs. Vancouver’s femme hardcore act ALIEN BOYS make their Calgary stop on the last leg of a long summer tour \nw/ Licorice – Local Noisy Punks\nPill Crusher – Slimy Sludge Popperz\nArtificial Slits – NEW LOCAL BAND\,\nmembers of Glaux\, Vacuum Rebuilders… first gig! \nFriday\, September 8th at Tubby Dog\n$8 Cover Doors at 9pm\, Bands at 9:30pm\nAll Ages. No Dickheads.
URL:https://alienboys.ca/event/calgary-2/
LOCATION:Tubby Dog\, 1022 - 17 Ave SW # 103\, Calgary\, AB\, Canada
CATEGORIES:dog days 2017
ATTACH;FMTTYPE=image/jpeg:https://alienboys.ca/wp-content/uploads/2017/07/calgary2017.jpg
END:VEVENT
BEGIN:VEVENT
DTSTART;TZID=America/Regina:20170907T210000
DTEND;TZID=America/Regina:20170907T230000
DTSTAMP:20260420T052023
CREATED:20170723T005756Z
LAST-MODIFIED:20220915T062522Z
UID:107-1504818000-1504825200@alienboys.ca
SUMMARY:Regina @ the German Club
DESCRIPTION:w/ the Spoils and Soiled Doves
URL:https://alienboys.ca/event/regina-the-german-club/
LOCATION:MI
CATEGORIES:dog days 2017
ATTACH;FMTTYPE=image/jpeg:https://alienboys.ca/wp-content/uploads/2017/07/regina.jpg
END:VEVENT
BEGIN:VEVENT
DTSTART;TZID=America/Winnipeg:20170906T210000
DTEND;TZID=America/Winnipeg:20170906T233000
DTSTAMP:20260420T052023
CREATED:20170723T005751Z
LAST-MODIFIED:20220915T062601Z
UID:106-1504731600-1504740600@alienboys.ca
SUMMARY:Winnipeg @ the Doghouse
DESCRIPTION:w/ Skeleton\, Mike’s Knife\, Sphygmus
URL:https://alienboys.ca/event/winnipeg-2/
LOCATION:the Doghouse\, Winnipeg\, MB\, Canada
CATEGORIES:dog days 2017
ATTACH;FMTTYPE=image/jpeg:https://alienboys.ca/wp-content/uploads/2017/07/Winnipeg-doghouse-2017.jpg
END:VEVENT
BEGIN:VEVENT
DTSTART;TZID=UTC:20170902T210000
DTEND;TZID=UTC:20170902T210000
DTSTAMP:20260420T052023
CREATED:20170723T005747Z
LAST-MODIFIED:20171110T223007Z
UID:105-1504386000-1504386000@alienboys.ca
SUMMARY:Barrie @ the Foxx Lounge & Hotdoggery
DESCRIPTION:w/ The Highdives for their vinyl release as well as Ship of Fools
URL:https://alienboys.ca/event/hamilton-2/
LOCATION:The Foxx Lounge Rock Bar and Hotdoggery\, 16 Dunlop Street East\, Barrie\, ON\, Canada
CATEGORIES:dog days 2017
END:VEVENT
BEGIN:VEVENT
DTSTART;TZID=UTC:20170901T210000
DTEND;TZID=UTC:20170901T210000
DTSTAMP:20260420T052023
CREATED:20170723T005737Z
LAST-MODIFIED:20171110T225352Z
UID:104-1504299600-1504299600@alienboys.ca
SUMMARY:Toronto  @ Coalition
DESCRIPTION:w/ Maildita\, Sex Master
URL:https://alienboys.ca/event/toronto-coalition/
LOCATION:Coalition\, 282 Augusta Street\, Toronto\, ON\, Canada
CATEGORIES:dog days 2017
ATTACH;FMTTYPE=image/jpeg:https://alienboys.ca/wp-content/uploads/2017/07/toronto-coalition-2017.jpg
END:VEVENT
BEGIN:VEVENT
DTSTART;TZID=America/Toronto:20170831T210000
DTEND;TZID=America/Toronto:20170831T233000
DTSTAMP:20260420T052023
CREATED:20170723T005733Z
LAST-MODIFIED:20220915T064106Z
UID:103-1504213200-1504222200@alienboys.ca
SUMMARY:Peterborough  @ The Spill
DESCRIPTION:
URL:https://alienboys.ca/event/peterborough-the-spill/
LOCATION:MI
CATEGORIES:dog days 2017
END:VEVENT
BEGIN:VEVENT
DTSTART;TZID=UTC:20170830T210000
DTEND;TZID=UTC:20170830T210000
DTSTAMP:20260420T052023
CREATED:20170723T005730Z
LAST-MODIFIED:20171110T224513Z
UID:102-1504126800-1504126800@alienboys.ca
SUMMARY:Ottawa  @ Funeral Home
DESCRIPTION:w/ L’Animal Mechant\, Omerta\, and Tightlip
URL:https://alienboys.ca/event/ottawa-funeral-home/
LOCATION:MI
CATEGORIES:dog days 2017
ATTACH;FMTTYPE=image/jpeg:https://alienboys.ca/wp-content/uploads/2017/07/Ottawa-2017.jpg
END:VEVENT
BEGIN:VEVENT
DTSTART;TZID=America/Moncton:20170828T210000
DTEND;TZID=America/Moncton:20170828T233000
DTSTAMP:20260420T052023
CREATED:20170723T005726Z
LAST-MODIFIED:20220915T063334Z
UID:101-1503954000-1503963000@alienboys.ca
SUMMARY:Fredericton  @ Maniac Mansion
DESCRIPTION:$5-$10 sliding scale Cover!\n19+\nDoors at 8 \nw/ Hard Charger\, Motherhood\, the comedic stylings of Molly B
URL:https://alienboys.ca/event/fredericton-maniac-mansion/
LOCATION:MI
CATEGORIES:dog days 2017
END:VEVENT
END:VCALENDAR