BEGIN:VCALENDAR
VERSION:2.0
PRODID:-//Alien Boys - ECPv6.15.20//NONSGML v1.0//EN
CALSCALE:GREGORIAN
METHOD:PUBLISH
X-WR-CALNAME:Alien Boys
X-ORIGINAL-URL:https://alienboys.ca
X-WR-CALDESC:Events for Alien Boys
REFRESH-INTERVAL;VALUE=DURATION:PT1H
X-Robots-Tag:noindex
X-PUBLISHED-TTL:PT1H
BEGIN:VTIMEZONE
TZID:UTC
BEGIN:STANDARD
TZOFFSETFROM:+0000
TZOFFSETTO:+0000
TZNAME:UTC
DTSTART:20180101T000000
END:STANDARD
END:VTIMEZONE
BEGIN:VTIMEZONE
TZID:America/Vancouver
BEGIN:DAYLIGHT
TZOFFSETFROM:-0800
TZOFFSETTO:-0700
TZNAME:PDT
DTSTART:20210314T100000
END:DAYLIGHT
BEGIN:STANDARD
TZOFFSETFROM:-0700
TZOFFSETTO:-0800
TZNAME:PST
DTSTART:20211107T090000
END:STANDARD
BEGIN:DAYLIGHT
TZOFFSETFROM:-0800
TZOFFSETTO:-0700
TZNAME:PDT
DTSTART:20220313T100000
END:DAYLIGHT
BEGIN:STANDARD
TZOFFSETFROM:-0700
TZOFFSETTO:-0800
TZNAME:PST
DTSTART:20221106T090000
END:STANDARD
BEGIN:DAYLIGHT
TZOFFSETFROM:-0800
TZOFFSETTO:-0700
TZNAME:PDT
DTSTART:20230312T100000
END:DAYLIGHT
BEGIN:STANDARD
TZOFFSETFROM:-0700
TZOFFSETTO:-0800
TZNAME:PST
DTSTART:20231105T090000
END:STANDARD
END:VTIMEZONE
BEGIN:VTIMEZONE
TZID:America/Toronto
BEGIN:DAYLIGHT
TZOFFSETFROM:-0500
TZOFFSETTO:-0400
TZNAME:EDT
DTSTART:20210314T070000
END:DAYLIGHT
BEGIN:STANDARD
TZOFFSETFROM:-0400
TZOFFSETTO:-0500
TZNAME:EST
DTSTART:20211107T060000
END:STANDARD
BEGIN:DAYLIGHT
TZOFFSETFROM:-0500
TZOFFSETTO:-0400
TZNAME:EDT
DTSTART:20220313T070000
END:DAYLIGHT
BEGIN:STANDARD
TZOFFSETFROM:-0400
TZOFFSETTO:-0500
TZNAME:EST
DTSTART:20221106T060000
END:STANDARD
BEGIN:DAYLIGHT
TZOFFSETFROM:-0500
TZOFFSETTO:-0400
TZNAME:EDT
DTSTART:20230312T070000
END:DAYLIGHT
BEGIN:STANDARD
TZOFFSETFROM:-0400
TZOFFSETTO:-0500
TZNAME:EST
DTSTART:20231105T060000
END:STANDARD
END:VTIMEZONE
BEGIN:VEVENT
DTSTART;TZID=UTC:20231013T190000
DTEND;TZID=UTC:20231014T000000
DTSTAMP:20260419T193959
CREATED:20230926T073051Z
LAST-MODIFIED:20230926T073051Z
UID:604-1697223600-1697241600@alienboys.ca
SUMMARY:Calgary w/ Home Front\, Béton Armé
DESCRIPTION:w/ Béton Armé\, Home Front\, Dalat\, the Enforcers\, Sister Suzie\, Still Depths
URL:https://alienboys.ca/event/calgary-w-home-front-beton-arme/
LOCATION:The Palomino\, 109 7th Avenue SW\, Calgary\, AB\, Canada
ATTACH;FMTTYPE=image/jpeg:https://alienboys.ca/wp-content/uploads/2023/09/Calgary-october-13-2023.jpg
END:VEVENT
BEGIN:VEVENT
DTSTART;TZID=UTC:20230923T200000
DTEND;TZID=UTC:20230924T010000
DTSTAMP:20260419T193959
CREATED:20230826T182641Z
LAST-MODIFIED:20230826T183017Z
UID:563-1695499200-1695517200@alienboys.ca
SUMMARY:Massif Festival
DESCRIPTION:We’re playing the Massif Festival in Nelson BC on September 23.
URL:https://alienboys.ca/event/massif-festival/
LOCATION:ON
ATTACH;FMTTYPE=image/jpeg:https://alienboys.ca/wp-content/uploads/2023/08/massif-music-festival.jpg
END:VEVENT
BEGIN:VEVENT
DTSTART;TZID=UTC:20230922T200000
DTEND;TZID=UTC:20230922T235900
DTSTAMP:20260419T193959
CREATED:20230826T181737Z
LAST-MODIFIED:20230826T183825Z
UID:558-1695412800-1695427140@alienboys.ca
SUMMARY:Blackjacks 20 year Anniversary in Kamloops
DESCRIPTION:w/ Soundcity Hooligans\, Blackjacks (Re-uniting after 20 years!)\, Minx \n 
URL:https://alienboys.ca/event/blackjacks-20-year-anniversary/
LOCATION:Bridgeview Theatre\, 100 B Tranquille Road\, Kamloops\, BC\, V2B 3E7\, Canada
ATTACH;FMTTYPE=image/jpeg:https://alienboys.ca/wp-content/uploads/2023/08/kamloops-sept-22-2023.jpg
END:VEVENT
BEGIN:VEVENT
DTSTART;TZID=UTC:20230916T200000
DTEND;TZID=UTC:20230916T235900
DTSTAMP:20260419T193959
CREATED:20230826T180824Z
LAST-MODIFIED:20230916T172701Z
UID:554-1694894400-1694908740@alienboys.ca
SUMMARY:Not Yer Buddy @ Lanalou's
DESCRIPTION:w/ Soundcity Hooligans\, The Imperial\, the Toxics\, Blacksmith Brewer \nAll ages \n$22 advanced\, $25 @ the door
URL:https://alienboys.ca/event/not-yer-buddy-lanalous/
LOCATION:Lanalou’s\, 362 Powell Street\, Vancouver\, BC\, V6A 1G4\, Canada
ATTACH;FMTTYPE=image/jpeg:https://alienboys.ca/wp-content/uploads/2023/08/LanaLous-Sept-16-2023.jpg
END:VEVENT
BEGIN:VEVENT
DTSTART;VALUE=DATE:20230914
DTEND;VALUE=DATE:20230916
DTSTAMP:20260419T193959
CREATED:20230826T175637Z
LAST-MODIFIED:20230826T175637Z
UID:552-1694660400-1694746799@alienboys.ca
SUMMARY:Insite Block Party
DESCRIPTION:
URL:https://alienboys.ca/event/insite-block-party/
LOCATION:ON
END:VEVENT
BEGIN:VEVENT
DTSTART;TZID=UTC:20230113T210000
DTEND;TZID=UTC:20230114T000000
DTSTAMP:20260419T193959
CREATED:20221111T211332Z
LAST-MODIFIED:20221111T211413Z
UID:473-1673643600-1673654400@alienboys.ca
SUMMARY:Vancouver @ Rickshaw w/ the Black Halos & the Spitfires
DESCRIPTION:
URL:https://alienboys.ca/event/rickshaw-w-the-black-halos-the-spitfires/
LOCATION:The Rickshaw\, 254 East Hastings\, Vancouver\, BC\, Canada
ATTACH;FMTTYPE=image/jpeg:https://alienboys.ca/wp-content/uploads/2022/11/black-halos-jan-13-2023.jpg
END:VEVENT
BEGIN:VEVENT
DTSTART;TZID=America/Vancouver:20221126T190000
DTEND;TZID=America/Vancouver:20221126T233000
DTSTAMP:20260419T193959
CREATED:20220915T065612Z
LAST-MODIFIED:20221030T163856Z
UID:450-1669489200-1669505400@alienboys.ca
SUMMARY:Victoria @ Little Fernwood
DESCRIPTION:w/ disposal & androgyne
URL:https://alienboys.ca/event/victoria-little-fernwood/
LOCATION:Little Fernwood\, 1923 Fernwood Ave\, Victoria\, BC\, Canada
ATTACH;FMTTYPE=image/jpeg:https://alienboys.ca/wp-content/uploads/2022/09/Little-Fernwood-Nov26-2022.jpg
END:VEVENT
BEGIN:VEVENT
DTSTART;TZID=America/Vancouver:20221125T213000
DTEND;TZID=America/Vancouver:20221125T233000
DTSTAMP:20260419T193959
CREATED:20220915T065612Z
LAST-MODIFIED:20221111T210657Z
UID:448-1669411800-1669419000@alienboys.ca
SUMMARY:Cumberland
DESCRIPTION:w/ Pooched & Mean Bikini
URL:https://alienboys.ca/event/cumberland/
LOCATION:Masonic Hall\, 2687 Dunsmuir Ave\, Cumberland\, BC\, V0R 1S0\, Canada
ATTACH;FMTTYPE=image/jpeg:https://alienboys.ca/wp-content/uploads/2022/11/cumberland-nov-25-2023.jpg
END:VEVENT
BEGIN:VEVENT
DTSTART;TZID=UTC:20221105T210000
DTEND;TZID=UTC:20221106T000000
DTSTAMP:20260419T193959
CREATED:20221030T162222Z
LAST-MODIFIED:20221030T162222Z
UID:456-1667682000-1667692800@alienboys.ca
SUMMARY:Los Monjos @ Red Gate
DESCRIPTION:Public Information and Shubnet Systems Presents:\nUn Fin de Seman con Los Monjo Noche II\nNovember 5 at the Red Gate.\nDoors at 9:00pm. Bands at 9:30pm.\n—\nAdvance tickets are available here: https://ticketstripe.com/events/1031237\n$20 at the door.\n$15 advanced.\n$30 for a weekend pass.\nPWYC – no one turned away for lack of funds.\n—\nFeaturing:\nLos Monjo (Guadalajara\, Mexico)\nhttps://www.youtube.com/watch?v=8TpDR04hlgA\nDust Blaster\nhttps://dustblaster.bandcamp.com/\nTJ FELIX AND THE SPANK BANK TELLERS\nhttps://tjfelix.bandcamp.com/\nBlimp\nhttps://deathbyblimp.bandcamp.com/album/self-titled \nSee less
URL:https://alienboys.ca/event/los-monjos-red-gate/
LOCATION:Red Gate Arts Society\, 1965 Main Street\, Vancouver\, BC\, V5T 3C1\, Canada
ATTACH;FMTTYPE=image/jpeg:https://alienboys.ca/wp-content/uploads/2022/10/LosMonjos-Nov5-2022.jpg
END:VEVENT
BEGIN:VEVENT
DTSTART;TZID=UTC:20220913T190000
DTEND;TZID=UTC:20220914T000000
DTSTAMP:20260419T193959
CREATED:20220904T191046Z
LAST-MODIFIED:20220904T191046Z
UID:424-1663095600-1663113600@alienboys.ca
SUMMARY:Propagandhi @ the Rickshaw
DESCRIPTION:This show was postponed last year due to COVID.\nWoolworm is also playing.\n19+
URL:https://alienboys.ca/event/propagandhi-the-rickshaw/
LOCATION:The Rickshaw\, 254 East Hastings\, Vancouver\, BC\, Canada
ATTACH;FMTTYPE=image/jpeg:https://alienboys.ca/wp-content/uploads/2022/09/propagandhi-sept-13-2022.jpg
END:VEVENT
BEGIN:VEVENT
DTSTART;VALUE=DATE:20220909
DTEND;VALUE=DATE:20220912
DTSTAMP:20260419T193959
CREATED:20220904T191613Z
LAST-MODIFIED:20220904T191613Z
UID:429-1662692400-1662865199@alienboys.ca
SUMMARY:Outhouse Fest @ Pender Island
DESCRIPTION:Outhouse Fest is back and twice as packed as last year!\nSay goodbye to summer with 18 Punk\, Country\, Folk\, and Celtic bands over 2 nights in an Airplane Hangar on Pender Island.\n$75 includes on site camping.\ntickets available at https://outhouseproductions.ca/\nThere is a rideshare thread in the discussions page and we will have a shuttle picking up people and dropping off friday-sunday\n\n—-Lineup—- (links below)\nAlien Boys\nATD\nMean Bikini\nPooched\nBlacked Out\nChaos Disorder and Panic\nThe Staggers and Jaggs\nThe Burying Ground\nTubbs and the Sad Boys\nCoal Dust Gang\nCoyotes in the Meadow\nJustine Marie\nJuniper Jones\nGood Enough Dave\nDale Norman\nHackles\nand back by overwhelming demand\,\nLive Band Karaoke\nPoster artwork by Cud Eastbound\nOhana farms an active farm\, with lots of animals and agricultural plots. We ask you to stay within the festival grounds\, follow the farms rules\, and unfortunately no dogs are allowed. We are so grateful they share their space with us\, so as their guests please respect the farm\, and the community of Pender Island while you are here.\n\n\nAlien Boys\nhttps://alienboys.bandcamp.com/\nATD\nhttps://open.spotify.com/album/2d7sQ7cQ5rjad3L47iwzbq…\nMean Bikini\nhttps://open.spotify.com/artist/0t6qu00FYdQ0lbhdoVIOTh…\nPooched\nhttps://pooched.bandcamp.com/album/tercel\nBlacked Out\nhttps://open.spotify.com/album/0FxEV7Sqq5ADyQMsfDJ9nI…\nChaos Disorder and Panic\nwww.chaosdisorderandpanic.bandcamp.com\nThe Staggers and Jaggs\nhttps://thestaggersandjaggs.bandcamp.com/\nThe Burying Ground\nhttps://theburyingground.bandcamp.com/\nTubbs and the Sad Boys\nhttps://www.youtube.com/watch?v=y94XLDWcHS0\nCoal Dust Gang\nhttps://coaldustgang.bandcamp.com/releases\nJuniper Jones\nhttps://juniperjones.bandcamp.com/releases\nCoyotes in the Meadow\nhttps://www.instagram.com/coyotes_in_the_meadow/\nJustine Marie\nComing Soon!\nGood Enough Dave\nhttps://www.youtube.com/watch?v=28OQVjdvk6Y\nDale Norman\nhttps://www.youtube.com/watch?v=hzhRl9NIbdU\nHackles\nhttps://anxietyattackrecordings.bandcamp.com/…/hackles…
URL:https://alienboys.ca/event/outhouse-fest-pender-island/
LOCATION:Ohana Farms\, 4502 Liberto Road\, Pender Island\, BC\, Canada
ATTACH;FMTTYPE=image/jpeg:https://alienboys.ca/wp-content/uploads/2022/09/OuthouseFest-2022.jpg
END:VEVENT
BEGIN:VEVENT
DTSTART;TZID=UTC:20220604T200000
DTEND;TZID=UTC:20220604T235900
DTSTAMP:20260419T193959
CREATED:20220501T210517Z
LAST-MODIFIED:20220518T211233Z
UID:414-1654372800-1654387140@alienboys.ca
SUMMARY:Vancouver @ the Black Lab
DESCRIPTION:w/ Dead Cells\, Smuther
URL:https://alienboys.ca/event/vancouver-the-black-lab/
LOCATION:The Black Lab\, Unceded Coast Salish Territory\, Vancouver\, BC\, Canada
ATTACH;FMTTYPE=image/jpeg:https://alienboys.ca/wp-content/uploads/2022/05/june-4-2022.jpg
END:VEVENT
BEGIN:VEVENT
DTSTART;TZID=America/Toronto:20220514T210000
DTEND;TZID=America/Toronto:20220514T233000
DTSTAMP:20260419T193959
CREATED:20220501T191103Z
LAST-MODIFIED:20220501T191223Z
UID:411-1652562000-1652571000@alienboys.ca
SUMMARY:Montreal @ Brasserie Beaubien
DESCRIPTION:w/ Sexface\, Young Blades
URL:https://alienboys.ca/event/montreal-brasserie-beaubien/
LOCATION:Brasserie Beauien\, 73 Rue Beaubien E\, Montreal\, QC\, H2S 1R1\, Canada
END:VEVENT
BEGIN:VEVENT
DTSTART;TZID=America/Toronto:20220513T210000
DTEND;TZID=America/Toronto:20220513T233000
DTSTAMP:20260419T193959
CREATED:20220501T181038Z
LAST-MODIFIED:20220501T181038Z
UID:408-1652475600-1652484600@alienboys.ca
SUMMARY:Ottawa @ House of Targ
DESCRIPTION:19+\nw/ Dogma (Ottawa anarcho peace punk)\, Uzu (Montreal dark punk)
URL:https://alienboys.ca/event/ottawa-house-of-targ/
LOCATION:House of Targ\, 1077 Bank Street\, Ottawa\, ON\, K1S 3W9\, Canada
END:VEVENT
BEGIN:VEVENT
DTSTART;TZID=UTC:20220512T210000
DTEND;TZID=UTC:20220512T233000
DTSTAMP:20260419T193959
CREATED:20220501T180132Z
LAST-MODIFIED:20220501T180132Z
UID:406-1652389200-1652398200@alienboys.ca
SUMMARY:Toronto @ the Bovine
DESCRIPTION:w/ Sago\, Vestigio \nFacebook event
URL:https://alienboys.ca/event/toronto-the-bovine/
LOCATION:The Bovine Sex Club\, 542 Queen Street West\, Toronto\, ON\, M5V 2B5\, Canada
END:VEVENT
BEGIN:VEVENT
DTSTART;TZID=UTC:20220326T200000
DTEND;TZID=UTC:20220326T230000
DTSTAMP:20260419T193959
CREATED:20211210T030029Z
LAST-MODIFIED:20220120T032053Z
UID:385-1648324800-1648335600@alienboys.ca
SUMMARY:Rumble at Eastside Boxing Gym!!
DESCRIPTION:Our first Vancity show in 2 years!!! This event was scheduled for January 29th but we have postponed it to March 26 due to covid rules. If you have bought tickets they are still good\, and you should have retrieved an email from eventbrite offering a refund if the new date doesn’t work or you. If you didn’t receive it send us a message.\nw/ Nouveaux\, Schedule 1\, Gadfly \n19+ and vax check \nAdvance tix available
URL:https://alienboys.ca/event/ruble-at-eastside-boxing-gym/
LOCATION:East Van Boxing Club\, 238 Keefer St\, Vancouver\, BC\, V6A 1X5\, Canada
ATTACH;FMTTYPE=image/jpeg:https://alienboys.ca/wp-content/uploads/2021/12/261814825_1575726856114240_7663799086240126148_n.jpg
END:VEVENT
BEGIN:VEVENT
DTSTART;TZID=UTC:20200201T200000
DTEND;TZID=UTC:20200201T230000
DTSTAMP:20260419T193959
CREATED:20200107T020950Z
LAST-MODIFIED:20200107T022006Z
UID:377-1580587200-1580598000@alienboys.ca
SUMMARY:Local Friends Party at the Black Lab
DESCRIPTION:w/Passive\, Wirehead & Shameover
URL:https://alienboys.ca/event/local-show-at-the-black-lab/
LOCATION:The Black Lab\, Unceded Coast Salish Territory\, Vancouver\, BC\, Canada
END:VEVENT
BEGIN:VEVENT
DTSTART;TZID=UTC:20200111T200000
DTEND;TZID=UTC:20200112T010000
DTSTAMP:20260419T193959
CREATED:20200107T021704Z
LAST-MODIFIED:20200429T024537Z
UID:379-1578772800-1578790800@alienboys.ca
SUMMARY:Ancient Shapes with Apollo Ghosts and Alien Boys at The Wise Hall
DESCRIPTION:
URL:https://alienboys.ca/event/ancient-shapes-with-apollo-ghosts-and-alien-boys-at-the-wise-hall/
LOCATION:Wise Hall\, 1882 Adanac Street\, Vancouver\, BC\, Canada
ATTACH;FMTTYPE=image/jpeg:https://alienboys.ca/wp-content/uploads/2020/01/AncientShapesatTheWISEHall.jpg
END:VEVENT
BEGIN:VEVENT
DTSTART;TZID=UTC:20191231T200000
DTEND;TZID=UTC:20200101T030000
DTSTAMP:20260419T193959
CREATED:20191209T000601Z
LAST-MODIFIED:20191209T000601Z
UID:368-1577822400-1577847600@alienboys.ca
SUMMARY:New Year's Eve
DESCRIPTION:NEW YEAR’S EVE AT ASTORIA! \nSORE POINTS\, CHAIN WHIP & ALIEN BOYS\nw/ Dead Cells\, Betwetters Anonymous & Cheat\nTuesday\, December 31\, 2019\nThe Astoria\n769 East Hastings Street\n**Doors at 8pm** – Ages 19+ \nSore Points\nwww.facebook.com/Sorepointsband\nwww.slovenly.bandcamp.com/album/sore-points-not-alright-ep \nChain Whip\nwww.facebook.com/Chain-Whip-364585240674370\nwww.chainwhip.bandcamp.com \nAlien Boys\nwww.facebook.com/alienboysvancouver\nwww.alienboys.xyz \nDead Cells\nwww.facebook.com/DeadCellsVancouver\nwww.deadcells.bandcamp.com \nBedwetters Anonymous\nwww.facebook.com/pg/bedwettersanonymous\nwww.bedwettersanonymous.bandcamp.com \nCheat\nwww.cheat.bandcamp.com \nwww.modifiedghost.com\nwww.facebook.com/modifiedghost\nwww.instagram.com/modifiedghostofficial
URL:https://alienboys.ca/event/new-years-eve/
LOCATION:The Astoria\, 769 E.Hastings Street\, Vancouver\, BC\, V6A 1R3\, Canada
ATTACH;FMTTYPE=image/jpeg:https://alienboys.ca/wp-content/uploads/2019/12/NewYear2020-full-size-scaled.jpg
END:VEVENT
BEGIN:VEVENT
DTSTART;TZID=UTC:20191130T210000
DTEND;TZID=UTC:20191130T235900
DTSTAMP:20260419T193959
CREATED:20191114T055225Z
LAST-MODIFIED:20191114T055225Z
UID:362-1575147600-1575158340@alienboys.ca
SUMMARY:Return to Prince George
DESCRIPTION:ALIEN BOYS\nOn tour from Vancouver\, BC\n5 piece freaky D-beat\, genre mash\, rock n rolling punk \nBRITT AM\nBritt A.M. marries a punk rock sense of urgency to melodic protest songs. Backed up by a stalwart band full of Northern B.C.’s finest\, Britt A.M.’s set takes the crowd from toe-tapping to tear-stifling and back around to cutting a rug\, all whilst pondering (here it is) the state of the world today. \nCover $10\nDoors @ 8pm\nShow @ 9pm
URL:https://alienboys.ca/event/return-to-prince-george/
LOCATION:Legion 43 PG\, 1116 6th Avenue\, Prince George\, BC\, Canada
END:VEVENT
BEGIN:VEVENT
DTSTART;TZID=UTC:20191110T193000
DTEND;TZID=UTC:20191111T010000
DTSTAMP:20260419T193959
CREATED:20191105T014857Z
LAST-MODIFIED:20191105T015623Z
UID:348-1573414200-1573434000@alienboys.ca
SUMMARY:The Cambie is Dead! Long Live the Cambie!
DESCRIPTION:est. 1897 \n122 YEARS AGO! \nA night of punk\, pints\, unity and celebration of Vancouvers oldest pub THE CAMBIE! \nVICIOUS CYCLES (Motorcycho rockers- home coming show!)\nhttps://theviciouscycles.bandcamp.com \nCHAIN WHIP (Ferocious Hardcore)\nhttps://chainwhip.bandcamp.com \nALIEN BOYS (the best kick in the face you ever had- home coming show!)\nhttps://alienboys.bandcamp.com \nTERMINAL CITY RATS (local street punk rock n roll)\nhttps://terminalcityrats.bandcamp.com/releases \nSPACE CHIMP (reggae rock)\nhttps://spacechimp.bandcamp.com \nDOORS 7:30 \nTICKETS $15 \n19+ \nThis is more than a pub\, it’s a cultural institution. Put on yer boots cuz we’re gunna dance hard.
URL:https://alienboys.ca/event/the-cambie-is-dead-long-live-the-cambie/
LOCATION:The Cambie\, 300 Cambie Street\, Vancouver\, BC\, V6B 2N3\, Canada
ATTACH;FMTTYPE=image/jpeg:https://alienboys.ca/wp-content/uploads/2019/11/76773265_546884012806168_208367868759244800_n.jpg
END:VEVENT
BEGIN:VEVENT
DTSTART;VALUE=DATE:20191026
DTEND;VALUE=DATE:20191028
DTSTAMP:20260419T193959
CREATED:20190908T021123Z
LAST-MODIFIED:20190908T035120Z
UID:321-1572058800-1572145199@alienboys.ca
SUMMARY:Columbus OH
DESCRIPTION:
URL:https://alienboys.ca/event/cleveland-oh/
LOCATION:Ace of Cups\, 2619 N High Street\, Columbus\, OH\, 43202\, United States
CATEGORIES:Eastern Invasion 2019
END:VEVENT
BEGIN:VEVENT
DTSTART;VALUE=DATE:20191025
DTEND;VALUE=DATE:20191027
DTSTAMP:20260419T193959
CREATED:20190908T021054Z
LAST-MODIFIED:20190908T034835Z
UID:319-1571972400-1572058799@alienboys.ca
SUMMARY:Cincinnati OH
DESCRIPTION:
URL:https://alienboys.ca/event/cincinnati-oh/
LOCATION:Northside Yacht Club\, 4231 Spring Grove Ave\, Cincinnati\, OH\, 45223\, United States
CATEGORIES:Eastern Invasion 2019
END:VEVENT
BEGIN:VEVENT
DTSTART;VALUE=DATE:20191024
DTEND;VALUE=DATE:20191026
DTSTAMP:20260419T193959
CREATED:20190908T021016Z
LAST-MODIFIED:20190908T034614Z
UID:317-1571886000-1571972399@alienboys.ca
SUMMARY:Chicago IL
DESCRIPTION:
URL:https://alienboys.ca/event/chicago-il/
LOCATION:One City Tap\, 3115 S Archer\, Chicago\, IL\, 60608\, United States
CATEGORIES:Eastern Invasion 2019
END:VEVENT
BEGIN:VEVENT
DTSTART;VALUE=DATE:20191023
DTEND;VALUE=DATE:20191025
DTSTAMP:20260419T193959
CREATED:20190908T020937Z
LAST-MODIFIED:20190908T034125Z
UID:315-1571799600-1571885999@alienboys.ca
SUMMARY:Detroit MI
DESCRIPTION:
URL:https://alienboys.ca/event/detroit-mi/
LOCATION:Trumbullplex\, 4210 Trumbull Avenue\, Detroit\, MI\, 48208\, United States
CATEGORIES:Eastern Invasion 2019
END:VEVENT
BEGIN:VEVENT
DTSTART;TZID=UTC:20191022T210000
DTEND;TZID=UTC:20191023T000000
DTSTAMP:20260419T193959
CREATED:20190908T020919Z
LAST-MODIFIED:20190908T025345Z
UID:313-1571778000-1571788800@alienboys.ca
SUMMARY:Toronto ON
DESCRIPTION:w/ Hateful Monday (Switzerland)\, Maldita\, Sofa Queen.\nNo cover charge!
URL:https://alienboys.ca/event/toronto-on/
LOCATION:The Bovine Sex Club\, 542 Queen Street West\, Toronto\, ON\, M5V 2B5\, Canada
CATEGORIES:Eastern Invasion 2019
ATTACH;FMTTYPE=image/jpeg:https://alienboys.ca/wp-content/uploads/2019/09/Toronto-Oct-22-2019.jpg
END:VEVENT
BEGIN:VEVENT
DTSTART;VALUE=DATE:20191020
DTEND;VALUE=DATE:20191022
DTSTAMP:20260419T193959
CREATED:20190908T020853Z
LAST-MODIFIED:20190908T034435Z
UID:311-1571540400-1571626799@alienboys.ca
SUMMARY:Ottawa ON
DESCRIPTION:
URL:https://alienboys.ca/event/ottawa-on/
LOCATION:Funeral Home
CATEGORIES:Eastern Invasion 2019
END:VEVENT
BEGIN:VEVENT
DTSTART;VALUE=DATE:20191019
DTEND;VALUE=DATE:20191021
DTSTAMP:20260419T193959
CREATED:20190908T020835Z
LAST-MODIFIED:20190908T033815Z
UID:309-1571454000-1571540399@alienboys.ca
SUMMARY:Montreal QC
DESCRIPTION:
URL:https://alienboys.ca/event/montreal-qc/
LOCATION:La Vitrola\, 4602 Boul Saint-Laurent\, Montreal\, Quebec\, H2T 1R3\, Canada
CATEGORIES:Eastern Invasion 2019
END:VEVENT
BEGIN:VEVENT
DTSTART;VALUE=DATE:20191018
DTEND;VALUE=DATE:20191020
DTSTAMP:20260419T193959
CREATED:20190908T020802Z
LAST-MODIFIED:20190908T033608Z
UID:307-1571367600-1571453999@alienboys.ca
SUMMARY:Troy NY
DESCRIPTION:
URL:https://alienboys.ca/event/troy-ny/
LOCATION:The Ale House\, 680 River Street\, Troy\, NY\, 12180\, United States
CATEGORIES:Eastern Invasion 2019
END:VEVENT
BEGIN:VEVENT
DTSTART;VALUE=DATE:20191017
DTEND;VALUE=DATE:20191019
DTSTAMP:20260419T193959
CREATED:20190908T020726Z
LAST-MODIFIED:20190908T032920Z
UID:305-1571281200-1571367599@alienboys.ca
SUMMARY:Boston MA
DESCRIPTION:
URL:https://alienboys.ca/event/boston-ma/
LOCATION:Hong Kong\, 1238 Massachusetts Ave\, Cambridge\, MA\, 02138\, United States
CATEGORIES:Eastern Invasion 2019
END:VEVENT
END:VCALENDAR