BEGIN:VCALENDAR
VERSION:2.0
PRODID:-//Alien Boys - ECPv6.15.20//NONSGML v1.0//EN
CALSCALE:GREGORIAN
METHOD:PUBLISH
X-WR-CALNAME:Alien Boys
X-ORIGINAL-URL:https://alienboys.ca
X-WR-CALDESC:Events for Alien Boys
REFRESH-INTERVAL;VALUE=DURATION:PT1H
X-Robots-Tag:noindex
X-PUBLISHED-TTL:PT1H
BEGIN:VTIMEZONE
TZID:UTC
BEGIN:STANDARD
TZOFFSETFROM:+0000
TZOFFSETTO:+0000
TZNAME:UTC
DTSTART:20220101T000000
END:STANDARD
END:VTIMEZONE
BEGIN:VEVENT
DTSTART;TZID=UTC:20251122T200000
DTEND;TZID=UTC:20251123T020000
DTSTAMP:20260420T000147
CREATED:20251202T061221Z
LAST-MODIFIED:20251202T061221Z
UID:1002-1763841600-1763863200@alienboys.ca
SUMMARY:Elliot's Birthday
DESCRIPTION:Bands \nCordie M Sad\, Earthball\, Freak Dream\, Alien Boys\, KMVP \nDJs \nMatt Tecson\, Ridylan\, DJ All Sweat
URL:https://alienboys.ca/event/elliots-birthday/
LOCATION:Red Gate Arts Society\, 1965 Main Street\, Vancouver\, BC\, V5T 3C1\, Canada
ATTACH;FMTTYPE=image/jpeg:https://alienboys.ca/wp-content/uploads/2025/12/IMG_6627.jpg
END:VEVENT
BEGIN:VEVENT
DTSTART;TZID=UTC:20250913T200000
DTEND;TZID=UTC:20250913T235900
DTSTAMP:20260420T000147
CREATED:20250816T203229Z
LAST-MODIFIED:20250816T203229Z
UID:960-1757793600-1757807940@alienboys.ca
SUMMARY:Anarchy in the O.K.
DESCRIPTION:w/ A Wilhelm Scream\, Raygun Cowboys\, Wait//Less\, Mean Bikini\, Die Job\, Rad Dog and Sun Diver
URL:https://alienboys.ca/event/anarchy-in-the-o-k/
LOCATION:Creekside Conference Center\, 3310 37th Ave\, Vernon\, BC\, V1T2T5\, Canada
ATTACH;FMTTYPE=image/jpeg:https://alienboys.ca/wp-content/uploads/2025/08/Vernon-anarchy-in-the-ok-sept-13-2025.jpg
END:VEVENT
BEGIN:VEVENT
DTSTART;TZID=UTC:20250912T210000
DTEND;TZID=UTC:20250912T210000
DTSTAMP:20260420T000147
CREATED:20250816T212616Z
LAST-MODIFIED:20250816T212759Z
UID:969-1757710800-1757710800@alienboys.ca
SUMMARY:Prince George @ the Legion
DESCRIPTION:w/ Gamksimoon \ndoors @ 8 show @ 9 \n$20 advance / $25 door
URL:https://alienboys.ca/event/prince-george-the-legion/
LOCATION:Legion 43 PG\, 1116 6th Avenue\, Prince George\, BC\, Canada
ATTACH;FMTTYPE=image/png:https://alienboys.ca/wp-content/uploads/2025/08/Prince-George-September-12-2025-@-the-Legion.png
END:VEVENT
BEGIN:VEVENT
DTSTART;TZID=UTC:20250911T200000
DTEND;TZID=UTC:20250911T233000
DTSTAMP:20260420T000147
CREATED:20250816T204711Z
LAST-MODIFIED:20250816T204711Z
UID:965-1757620800-1757633400@alienboys.ca
SUMMARY:Kamloops @ the Blue Grotto
DESCRIPTION:w/ Sound City Hooligans\, Minx
URL:https://alienboys.ca/event/kamloops-the-blue-grotto/
LOCATION:the Blue Grotto\, 319 Victoria Street\, Kamloops\, BC\, V2C 2A3\, Canada
ATTACH;FMTTYPE=image/jpeg:https://alienboys.ca/wp-content/uploads/2025/08/Kamloops-sept-11-2025.jpg
END:VEVENT
BEGIN:VEVENT
DTSTART;TZID=UTC:20250905T203000
DTEND;TZID=UTC:20250905T233000
DTSTAMP:20260420T000147
CREATED:20250816T202522Z
LAST-MODIFIED:20250816T202557Z
UID:956-1757104200-1757115000@alienboys.ca
SUMMARY:Vancouver @ Green Auto
DESCRIPTION:w/ Gadfly\, the Hairy Cherries \n$15 Advance\, $20 @ door \nDoors @ 7:30\, Show @ 8:30
URL:https://alienboys.ca/event/vancouver-green-auto-2/
LOCATION:Green Auto\, 1822 Pandora Street\, Vancouver\, BC\, V5L1M5\, Canada
ATTACH;FMTTYPE=image/jpeg:https://alienboys.ca/wp-content/uploads/2025/08/Vancouver-Sept-5-2025.jpg
END:VEVENT
BEGIN:VEVENT
DTSTART;VALUE=DATE:20250822
DTEND;VALUE=DATE:20250825
DTSTAMP:20260420T000147
CREATED:20250816T201637Z
LAST-MODIFIED:20250816T201930Z
UID:943-1755831600-1756004399@alienboys.ca
SUMMARY:Loud Qathet
DESCRIPTION:17 loud bands two days of sweaty punk and metal…with bowling \n  \nLoud Qathet Instagram
URL:https://alienboys.ca/event/loud-qathet/
LOCATION:the Alley\, 4476 Marine Ave\, Powell River\, BC\, V8A2K2\, Canada
ATTACH;FMTTYPE=image/jpeg:https://alienboys.ca/wp-content/uploads/2025/08/loud-qathet-aug-23-2025-header.jpg
END:VEVENT
BEGIN:VEVENT
DTSTART;TZID=UTC:20250620T200000
DTEND;TZID=UTC:20250620T235900
DTSTAMP:20260420T000147
CREATED:20250321T035143Z
LAST-MODIFIED:20250816T195818Z
UID:894-1750449600-1750463940@alienboys.ca
SUMMARY:Cancer Sucks\, Let's Dance - A benefit for Jonny Bones
DESCRIPTION:w/ Los Furios\, Still Spirits\, Die Job\, Brasser\, Jesse Lebourdais \nCheck out the Go fund me
URL:https://alienboys.ca/event/vancouver-redgate/
LOCATION:The Rickshaw\, 254 East Hastings\, Vancouver\, BC\, Canada
ATTACH;FMTTYPE=image/png:https://alienboys.ca/wp-content/uploads/2025/03/Vancouver-Jonny-Bones-Benefit-June-20-2025.png
END:VEVENT
BEGIN:VEVENT
DTSTART;TZID=UTC:20250330T214000
DTEND;TZID=UTC:20250330T223000
DTSTAMP:20260420T000147
CREATED:20250321T031744Z
LAST-MODIFIED:20250321T031744Z
UID:892-1743370800-1743373800@alienboys.ca
SUMMARY:Penticton @ Ignite the Arts
DESCRIPTION:Starting on Friday\, March 28 and running till Sunday\, March 30 the Ignite Festival Weekend is three days of non-stop music\, performance\, art\, and workshops running in ten venues in downtown Penticton including the Elks Hall\, Dream Café\, Tempest Theatre\, BritBar\, Legacy Den\, Highway 97 Brewery\, Cannery Brewing\, the Penticton Art Gallery\, Be Hive\, The Hub and Hillside Winery. \n\n\n\n\n\n\n\n\nOver 70+ musical and performing acts to choose from.\n\n\n\n\n\n\n\n\nfestivalgoers can cruise between venues and experience incredible music and art\, while soaking up the vibrant community atmosphere of downtown Penticton. \nThe festival’s lineup features something for everyone\, from folk to electronic to spoken word and hip hop\, as well as live theatre\, dance\, clowns\, workshops\, exhibitions\, and a good dose of programming for kids and music to get you dancing.
URL:https://alienboys.ca/event/penticton-ignite-the-arts/
LOCATION:Elks Lodge\, 343 Ellis Street\, Penticton\, BC\, v2a4l8\, Canada
ATTACH;FMTTYPE=image/png:https://alienboys.ca/wp-content/uploads/2025/03/AlienBoys-Ignite-the-Arts-2025.png
END:VEVENT
BEGIN:VEVENT
DTSTART;TZID=UTC:20250328T230000
DTEND;TZID=UTC:20250329T003000
DTSTAMP:20260420T000147
CREATED:20250321T031334Z
LAST-MODIFIED:20250321T031507Z
UID:887-1743202800-1743208200@alienboys.ca
SUMMARY:Penticton @ Ignite the Arts
DESCRIPTION:Starting on Friday\, March 28 and running till Sunday\, March 30 the Ignite Festival Weekend is three days of non-stop music\, performance\, art\, and workshops running in ten venues in downtown Penticton including the Elks Hall\, Dream Café\, Tempest Theatre\, BritBar\, Legacy Den\, Highway 97 Brewery\, Cannery Brewing\, the Penticton Art Gallery\, Be Hive\, The Hub and Hillside Winery. \n\n\n\n\n\n\n\n\nOver 70+ musical and performing acts to choose from.\n\n\n\n\n\n\n\n\nfestivalgoers can cruise between venues and experience incredible music and art\, while soaking up the vibrant community atmosphere of downtown Penticton. \nThe festival’s lineup features something for everyone\, from folk to electronic to spoken word and hip hop\, as well as live theatre\, dance\, clowns\, workshops\, exhibitions\, and a good dose of programming for kids and music to get you dancing.
URL:https://alienboys.ca/event/ignite-the-arts/
LOCATION:Elks Lodge\, 343 Ellis Street\, Penticton\, BC\, v2a4l8\, Canada
ATTACH;FMTTYPE=image/png:https://alienboys.ca/wp-content/uploads/2025/03/AlienBoys-Ignite-the-Arts-2025.png
END:VEVENT
BEGIN:VEVENT
DTSTART;TZID=UTC:20250125T200000
DTEND;TZID=UTC:20250125T235900
DTSTAMP:20260420T000147
CREATED:20241214T221837Z
LAST-MODIFIED:20250816T200108Z
UID:880-1737835200-1737849540@alienboys.ca
SUMMARY:Nanaimo @ Crace Mountain
DESCRIPTION:w/ kmvp and Big Ethel
URL:https://alienboys.ca/event/nanaimo-crace-mountain/
LOCATION:Crace Mountain\, Nanaimo\, BC\, Canada
ATTACH;FMTTYPE=image/jpeg:https://alienboys.ca/wp-content/uploads/2024/12/Nanaimo-crace-mountain-jan-25-2025.jpg
END:VEVENT
BEGIN:VEVENT
DTSTART;TZID=UTC:20250124T200000
DTEND;TZID=UTC:20250124T235900
DTSTAMP:20260420T000147
CREATED:20241214T220935Z
LAST-MODIFIED:20241214T220935Z
UID:875-1737748800-1737763140@alienboys.ca
SUMMARY:Punk Beats in Cumberland
DESCRIPTION:w/ Mean Bikini\, Pilsgnar\, 2B-Deterrent \nFundraiser for warm gear for the unhoused
URL:https://alienboys.ca/event/punk-beats-in-cumberland/
LOCATION:Masonic Hall\, 2687 Dunsmuir Ave\, Cumberland\, BC\, V0R 1S0\, Canada
ATTACH;FMTTYPE=image/jpeg:https://alienboys.ca/wp-content/uploads/2024/12/PunkBeats2_Poster_ForWeb_v2-small.jpg
END:VEVENT
BEGIN:VEVENT
DTSTART;TZID=UTC:20241116T203000
DTEND;TZID=UTC:20241116T235900
DTSTAMP:20260420T000147
CREATED:20241019T144606Z
LAST-MODIFIED:20241019T145817Z
UID:831-1731789000-1731801540@alienboys.ca
SUMMARY:Rossland @ the Flying Steam Shovel
DESCRIPTION:w/ the Kill Rats\, Tarholes
URL:https://alienboys.ca/event/rossland-the-flying-steam-shovel/
LOCATION:The Flying Steam Shovel\, 2003 2nd Ave\, Rossland\, BC\, V0G1Y0\, Canada
CATEGORIES:Kill Rats 2024
ATTACH;FMTTYPE=image/jpeg:https://alienboys.ca/wp-content/uploads/2024/10/Steamshovel-Nov-16-Poster-11-X-17.jpg
END:VEVENT
BEGIN:VEVENT
DTSTART;TZID=UTC:20241115T203000
DTEND;TZID=UTC:20241115T235900
DTSTAMP:20260420T000147
CREATED:20241017T015033Z
LAST-MODIFIED:20241019T142245Z
UID:816-1731702600-1731715140@alienboys.ca
SUMMARY:Nelson @ the Royal
DESCRIPTION:w/ the Kill Rats\, Tarholes
URL:https://alienboys.ca/event/nelson-the-royal/
LOCATION:The Royal\, 330 Baker Street\, Nelson\, BC\, V1L 4H5\, Canada
CATEGORIES:Kill Rats 2024
ATTACH;FMTTYPE=image/jpeg:https://alienboys.ca/wp-content/uploads/2024/10/Royal-Nov-15-2024-11-X-17.jpg
END:VEVENT
BEGIN:VEVENT
DTSTART;TZID=UTC:20241114T203000
DTEND;TZID=UTC:20241114T235900
DTSTAMP:20260420T000147
CREATED:20241019T143853Z
LAST-MODIFIED:20241019T143853Z
UID:828-1731616200-1731628740@alienboys.ca
SUMMARY:Kelowna @ Dunnenzies
DESCRIPTION:w/ the Kill Rats\, Tarholes
URL:https://alienboys.ca/event/kelowna-dunnenzies/
LOCATION:DunnEnzies\, 1559 Ellis Street\, Kelowna\, BC\, V1Y 2A7\, Canada
CATEGORIES:Kill Rats 2024
ATTACH;FMTTYPE=image/jpeg:https://alienboys.ca/wp-content/uploads/2024/10/Dunnenzies-Nov-14-2024-11-X-17.jpg
END:VEVENT
BEGIN:VEVENT
DTSTART;TZID=UTC:20241109T210000
DTEND;TZID=UTC:20241109T235900
DTSTAMP:20260420T000147
CREATED:20241019T075242Z
LAST-MODIFIED:20241019T185412Z
UID:834-1731186000-1731196740@alienboys.ca
SUMMARY:Vancouver @ Red Gate
DESCRIPTION:w/ Punitive Damage\, Toy Tiger\, Selfist\, and an extra secret special guest we can’t share in advance so you better come to find out! \n$20 advance \n$25 door \nAll ages \nBuy tickets here
URL:https://alienboys.ca/event/vancouver-red-gate/
LOCATION:Red Gate Arts Society\, 1965 Main Street\, Vancouver\, BC\, V5T 3C1\, Canada
ATTACH;FMTTYPE=image/jpeg:https://alienboys.ca/wp-content/uploads/2024/10/signal-2024-10-14-21-27-41-8332.jpg
END:VEVENT
BEGIN:VEVENT
DTSTART;VALUE=DATE:20240907
DTEND;VALUE=DATE:20240910
DTSTAMP:20260420T000147
CREATED:20240616T202702Z
LAST-MODIFIED:20240814T043742Z
UID:706-1725678000-1725850799@alienboys.ca
SUMMARY:Outhouse Fest
DESCRIPTION:Outhouse Fest is back! We play on the Saturday. Tickets and all your questions answered here: https://www.eventbrite.com/e/outhouse-fest-iv-tickets-867876862057 \n 
URL:https://alienboys.ca/event/outhouse-fest/
LOCATION:Ohana Farms\, 4502 Liberto Road\, Pender Island\, BC\, Canada
ATTACH;FMTTYPE=image/jpeg:https://alienboys.ca/wp-content/uploads/2024/06/Outhouse_17x17_v8-2024-small.jpg
END:VEVENT
BEGIN:VEVENT
DTSTART;VALUE=DATE:20240901
DTEND;VALUE=DATE:20240903
DTSTAMP:20260420T000147
CREATED:20240616T202247Z
LAST-MODIFIED:20240814T043636Z
UID:703-1725159600-1725245999@alienboys.ca
SUMMARY:Moments Festival
DESCRIPTION:Moments Fest is back for its 8th installment\, taking place at the Siksika Pow Wow Grounds featuring 40+ bands. It is a three day festival August 30-September 1. We play on Sunday September 1.\n \nw/ METZ\, No More Moments\, 1876\, Amy Nelson\, Bad Egg\, Toxic Femm\, Quit It!\, Ethereal Tomb\, Our Last Crusade\, Iron Tusk\, Tipless\, Space Queen and a whole bunch more!!! \nMore info here: https://www.eventbrite.ca/e/moments-fest-2024-tickets-807141119817 \nand here: https://www.facebook.com/events/1203097690881833
URL:https://alienboys.ca/event/moments-festival/
LOCATION:Siksika\, Siksika Pow Wow Arbor\, Gleichen\, AB\, T0J 1N0\, Canada
ATTACH;FMTTYPE=image/jpeg:https://alienboys.ca/wp-content/uploads/2024/06/moments-fest-Sept-1-2024.jpg
END:VEVENT
BEGIN:VEVENT
DTSTART;TZID=UTC:20240831T203000
DTEND;TZID=UTC:20240831T235900
DTSTAMP:20260420T000147
CREATED:20240814T044521Z
LAST-MODIFIED:20240814T045928Z
UID:723-1725136200-1725148740@alienboys.ca
SUMMARY:Calgary @ the Palomino
DESCRIPTION:w/ Maverick\, Glitter Glue and Pit Props
URL:https://alienboys.ca/event/calgary-the-palomino/
LOCATION:The Palomino\, 109 7th Avenue SW\, Calgary\, AB\, Canada
ATTACH;FMTTYPE=image/jpeg:https://alienboys.ca/wp-content/uploads/2024/08/Calgary-Palomino-aug31-2024.jpg
END:VEVENT
BEGIN:VEVENT
DTSTART;TZID=UTC:20240830T180000
DTEND;TZID=UTC:20240830T210000
DTSTAMP:20260420T000147
CREATED:20240815T051342Z
LAST-MODIFIED:20240815T051342Z
UID:728-1725040800-1725051600@alienboys.ca
SUMMARY:Edmonton @ the Buckingham
DESCRIPTION:w/ Quit It!\, Slime \n$15 advance\, $20 door \nEarly show don’t be late
URL:https://alienboys.ca/event/edmonton-the-buckingham/
LOCATION:The Buckingham\, 10439 82 Ave NW\, Edmonton\, AB\, T6E 2A1\, Canada
ATTACH;FMTTYPE=image/jpeg:https://alienboys.ca/wp-content/uploads/2024/08/edmonton-aug-30-2024.jpg
END:VEVENT
BEGIN:VEVENT
DTSTART;TZID=UTC:20240808T200000
DTEND;TZID=UTC:20240808T235900
DTSTAMP:20260420T000147
CREATED:20240616T201520Z
LAST-MODIFIED:20240720T200736Z
UID:700-1723147200-1723161540@alienboys.ca
SUMMARY:Lambrini Girls
DESCRIPTION:w/ Wait//Less\, Lambrini Girls
URL:https://alienboys.ca/event/lambrini-girls/
LOCATION:Fox Cabaret\, 2321 Main Street\, Vancouver\, BC\, V5T 3C9\, Canada
ATTACH;FMTTYPE=image/jpeg:https://alienboys.ca/wp-content/uploads/2024/06/LambriniGirls_InstaSquare-aug8-2024.jpg
END:VEVENT
BEGIN:VEVENT
DTSTART;TZID=UTC:20240720T200000
DTEND;TZID=UTC:20240720T235900
DTSTAMP:20260420T000147
CREATED:20240616T201257Z
LAST-MODIFIED:20240720T192234Z
UID:697-1721505600-1721519940@alienboys.ca
SUMMARY:Party in the Valley!
DESCRIPTION:w/ Strathcona\, Vultures at Dawn\, Cursed Words
URL:https://alienboys.ca/event/party-in-the-valley/
LOCATION:Wolf Bar\, 22336 Lougheed Hwy\, Maple Ridge\, BC\, V2X 8T1\, Canada
ATTACH;FMTTYPE=image/jpeg:https://alienboys.ca/wp-content/uploads/2024/06/MapleRidgeJuly20th2024SquarePoster.jpg
END:VEVENT
BEGIN:VEVENT
DTSTART;TZID=UTC:20240614T200000
DTEND;TZID=UTC:20240614T235900
DTSTAMP:20260420T000147
CREATED:20240616T200949Z
LAST-MODIFIED:20240616T200949Z
UID:692-1718395200-1718409540@alienboys.ca
SUMMARY:Save the WISE Hall!
DESCRIPTION:w/ Leo D.E. Johnson\, Vogue Villains\, Digression\, Slip Ons
URL:https://alienboys.ca/event/save-the-wise-hall/
LOCATION:Wise Hall\, 1882 Adanac Street\, Vancouver\, BC\, Canada
ATTACH;FMTTYPE=image/png:https://alienboys.ca/wp-content/uploads/2024/06/Save-The-Wise-june-14-2024-resized.png
END:VEVENT
BEGIN:VEVENT
DTSTART;TZID=UTC:20240517T200000
DTEND;TZID=UTC:20240517T235000
DTSTAMP:20260420T000147
CREATED:20240414T175314Z
LAST-MODIFIED:20240414T175314Z
UID:685-1715976000-1715989800@alienboys.ca
SUMMARY:Vancouver @ Green Auto
DESCRIPTION:w/ Chairman\, Boosh\, Waste Coast \n$15 advanced\, $20 door
URL:https://alienboys.ca/event/vancouver-green-auto/
LOCATION:Green Auto\, 1822 Pandora Street\, Vancouver\, BC\, V5L1M5\, Canada
ATTACH;FMTTYPE=image/jpeg:https://alienboys.ca/wp-content/uploads/2024/04/May-11-2024-Vancouver-Green-auto.jpg
END:VEVENT
BEGIN:VEVENT
DTSTART;TZID=UTC:20240511T210000
DTEND;TZID=UTC:20240511T235900
DTSTAMP:20260420T000147
CREATED:20240414T174236Z
LAST-MODIFIED:20240414T174317Z
UID:680-1715461200-1715471940@alienboys.ca
SUMMARY:D.O.A. in Vancouver
DESCRIPTION:w/ Dead Bob\, Wait//Less
URL:https://alienboys.ca/event/d-o-a-in-vancouver/
LOCATION:Commodore Ballroom\, 868 Granville Street\, Vancouver\, BC\, V6Z1K3\, Canada
ATTACH;FMTTYPE=image/jpeg:https://alienboys.ca/wp-content/uploads/2024/04/Social-1024x512-DOA-May-11-Update.jpg
END:VEVENT
BEGIN:VEVENT
DTSTART;TZID=UTC:20231103T200000
DTEND;TZID=UTC:20231104T000000
DTSTAMP:20260420T000147
CREATED:20230926T081924Z
LAST-MODIFIED:20231022T200238Z
UID:610-1699041600-1699056000@alienboys.ca
SUMMARY:Vancouver Album Release
DESCRIPTION:w/ Cut Piece (Portland)\, the Moor\, Dark Recollection \n$25 at the door\n$20 advance on Eventbrite
URL:https://alienboys.ca/event/vancouver-album-release/
LOCATION:Wise Hall\, 1882 Adanac Street\, Vancouver\, BC\, Canada
ATTACH;FMTTYPE=image/jpeg:https://alienboys.ca/wp-content/uploads/2023/10/WiseHallNov3-2023NewLineup.jpg
END:VEVENT
BEGIN:VEVENT
DTSTART;TZID=UTC:20231029T210000
DTEND;TZID=UTC:20231029T235900
DTSTAMP:20260420T000147
CREATED:20231022T195723Z
LAST-MODIFIED:20231022T195754Z
UID:661-1698613200-1698623940@alienboys.ca
SUMMARY:Montreal @ Traxide
DESCRIPTION:w/ Sweat\, Seed Toss\, Pressure Pin \nAll ages pay what you can
URL:https://alienboys.ca/event/montreal-traxide/
LOCATION:Traxide\, Fattal\, Ask a punk\, Montreal\, QC\, Canada
ATTACH;FMTTYPE=image/jpeg:https://alienboys.ca/wp-content/uploads/2023/10/MontrealOct29-2023.jpg
END:VEVENT
BEGIN:VEVENT
DTSTART;TZID=UTC:20231028T193000
DTEND;TZID=UTC:20231028T235900
DTSTAMP:20260420T000147
CREATED:20231022T195240Z
LAST-MODIFIED:20231022T195240Z
UID:657-1698521400-1698537540@alienboys.ca
SUMMARY:Ottawa Halloween Hardcore
DESCRIPTION:w/ Moratorium\, Treehouse of Horror\, Ultra Love\, Boxcutter\, Twelve Mile Lake \nAll ages
URL:https://alienboys.ca/event/ottawa-halloween-hardcore/
LOCATION:Montgomery Legion\, 330 Kent Street\, Ottawa\, ON\, K2P 2A6\, Canada
ATTACH;FMTTYPE=image/jpeg:https://alienboys.ca/wp-content/uploads/2023/10/OttawaOct28-2023.jpg
END:VEVENT
BEGIN:VEVENT
DTSTART;TZID=UTC:20231027T200000
DTEND;TZID=UTC:20231027T235900
DTSTAMP:20260420T000147
CREATED:20231022T194808Z
LAST-MODIFIED:20231022T194808Z
UID:652-1698436800-1698451140@alienboys.ca
SUMMARY:Toronto @SeeScape
DESCRIPTION:w/ Big Brother\, Abraxas Reflux\, Rapid Tension
URL:https://alienboys.ca/event/toronto-seescape/
LOCATION:SeeScape\, 347 Keele Street\, Toronto\, ON\, M6P 2K6\, Canada
ATTACH;FMTTYPE=image/jpeg:https://alienboys.ca/wp-content/uploads/2023/10/TorontoOct27-2023.jpg
END:VEVENT
BEGIN:VEVENT
DTSTART;TZID=UTC:20231026T190000
DTEND;TZID=UTC:20231026T233000
DTSTAMP:20260420T000147
CREATED:20231022T181116Z
LAST-MODIFIED:20231022T181116Z
UID:647-1698346800-1698363000@alienboys.ca
SUMMARY:Hamilton @ Vertagogo
DESCRIPTION:w/ Hallucination\, Realized\, Darkdive\, Fed Ash \nAll ages\, Pay what you can
URL:https://alienboys.ca/event/hamilton-vertagogo/
LOCATION:Vertagogo\, 1385 Main St E\, Hamilton\, ON\, L8K 1B9\, Canada
ATTACH;FMTTYPE=image/png:https://alienboys.ca/wp-content/uploads/2023/10/Hamilton-Vertagogo-October2023.png
END:VEVENT
BEGIN:VEVENT
DTSTART;TZID=UTC:20231014T200000
DTEND;TZID=UTC:20231015T000000
DTSTAMP:20260420T000147
CREATED:20230920T034425Z
LAST-MODIFIED:20230926T080711Z
UID:582-1697313600-1697328000@alienboys.ca
SUMMARY:Edmonton w/ Home Front
DESCRIPTION:w/ Home Front\, Beton Armé\, Sister Suzie\, DJ Boo Boo \n$15 advance\, $20 door
URL:https://alienboys.ca/event/edmonton-w-home-front/
LOCATION:The Starlite Room\, 10030 102 Street\, Edmonton\, AB\, Canada
ATTACH;FMTTYPE=image/jpeg:https://alienboys.ca/wp-content/uploads/2023/09/HomeFront_-edmonton-banner-sept-2023.jpg
END:VEVENT
END:VCALENDAR