BEGIN:VCALENDAR
VERSION:2.0
PRODID:-//Alien Boys - ECPv6.15.20//NONSGML v1.0//EN
CALSCALE:GREGORIAN
METHOD:PUBLISH
X-WR-CALNAME:Alien Boys
X-ORIGINAL-URL:https://alienboys.ca
X-WR-CALDESC:Events for Alien Boys
REFRESH-INTERVAL;VALUE=DURATION:PT1H
X-Robots-Tag:noindex
X-PUBLISHED-TTL:PT1H
BEGIN:VTIMEZONE
TZID:UTC
BEGIN:STANDARD
TZOFFSETFROM:+0000
TZOFFSETTO:+0000
TZNAME:UTC
DTSTART:20250101T000000
END:STANDARD
END:VTIMEZONE
BEGIN:VEVENT
DTSTART;TZID=UTC:20260326T190000
DTEND;TZID=UTC:20260326T190000
DTSTAMP:20260419T175934
CREATED:20260307T193044Z
LAST-MODIFIED:20260307T193044Z
UID:1238-1774551600-1774551600@alienboys.ca
SUMMARY:Vancouver @ Green Auto
DESCRIPTION:w/ Mean Bikini\, Chairman\, Cop Shuvit
URL:https://alienboys.ca/event/vancouver-green-auto-3/
LOCATION:Green Auto\, 1822 Pandora Street\, Vancouver\, BC\, V5L1M5\, Canada
CATEGORIES:Bikini Boys 2026
ATTACH;FMTTYPE=image/png:https://alienboys.ca/wp-content/uploads/2026/02/VANCOUVER-march-26-2026.png
END:VEVENT
BEGIN:VEVENT
DTSTART;TZID=UTC:20260327T200000
DTEND;TZID=UTC:20260327T235900
DTSTAMP:20260419T175934
CREATED:20260216T180111Z
LAST-MODIFIED:20260216T181120Z
UID:1245-1774641600-1774655940@alienboys.ca
SUMMARY:Kamloops @ the Kami
DESCRIPTION:w/ Mean Bikini\, Soundcity Hooligans
URL:https://alienboys.ca/event/kamloops-the-kami/
LOCATION:Kami Inn\, 354 Victoria Street\, Kamloops\, BC\, V2C\, Canada
CATEGORIES:Bikini Boys 2026
ATTACH;FMTTYPE=image/jpeg:https://alienboys.ca/wp-content/uploads/2026/02/Kamloops-March-27-2026.jpg
END:VEVENT
BEGIN:VEVENT
DTSTART;TZID=UTC:20260328T200000
DTEND;TZID=UTC:20260328T235900
DTSTAMP:20260419T175934
CREATED:20260216T180257Z
LAST-MODIFIED:20260216T181115Z
UID:1249-1774728000-1774742340@alienboys.ca
SUMMARY:Nelson @ the Royal
DESCRIPTION:w/ Mean Bikini
URL:https://alienboys.ca/event/nelson-the-royal-2/
LOCATION:The Royal\, 330 Baker Street\, Nelson\, BC\, V1L 4H5\, Canada
CATEGORIES:Bikini Boys 2026
END:VEVENT
BEGIN:VEVENT
DTSTART;TZID=UTC:20260329T200000
DTEND;TZID=UTC:20260329T235900
DTSTAMP:20260419T175934
CREATED:20260216T175740Z
LAST-MODIFIED:20260216T181110Z
UID:1241-1774814400-1774828740@alienboys.ca
SUMMARY:Kelowna @ Jackknife Brewing
DESCRIPTION:w/ Mean Bikini\, Sundiver \n19+
URL:https://alienboys.ca/event/kelowna-jackknife-brewing/
LOCATION:Jackknife Brewing\, 727 Baillie Avenue\, Kelowna\, BC\, V1Y 7E4\, Canada
CATEGORIES:Bikini Boys 2026
ATTACH;FMTTYPE=image/jpeg:https://alienboys.ca/wp-content/uploads/2026/02/Kelowna-March-29-2026-scaled.jpg
END:VEVENT
END:VCALENDAR