BEGIN:VCALENDAR
VERSION:2.0
PRODID:-//Alien Boys - ECPv6.15.20//NONSGML v1.0//EN
CALSCALE:GREGORIAN
METHOD:PUBLISH
X-ORIGINAL-URL:https://alienboys.ca
X-WR-CALDESC:Events for Alien Boys
REFRESH-INTERVAL;VALUE=DURATION:PT1H
X-Robots-Tag:noindex
X-PUBLISHED-TTL:PT1H
BEGIN:VTIMEZONE
TZID:UTC
BEGIN:STANDARD
TZOFFSETFROM:+0000
TZOFFSETTO:+0000
TZNAME:UTC
DTSTART:20240101T000000
END:STANDARD
END:VTIMEZONE
BEGIN:VEVENT
DTSTART;TZID=UTC:20250913T200000
DTEND;TZID=UTC:20250913T235900
DTSTAMP:20260423T151649
CREATED:20250816T203229Z
LAST-MODIFIED:20250816T203229Z
UID:960-1757793600-1757807940@alienboys.ca
SUMMARY:Anarchy in the O.K.
DESCRIPTION:w/ A Wilhelm Scream\, Raygun Cowboys\, Wait//Less\, Mean Bikini\, Die Job\, Rad Dog and Sun Diver
URL:https://alienboys.ca/event/anarchy-in-the-o-k/
LOCATION:Creekside Conference Center\, 3310 37th Ave\, Vernon\, BC\, V1T2T5\, Canada
ATTACH;FMTTYPE=image/jpeg:https://alienboys.ca/wp-content/uploads/2025/08/Vernon-anarchy-in-the-ok-sept-13-2025.jpg
END:VEVENT
END:VCALENDAR