BEGIN:VCALENDAR
VERSION:2.0
PRODID:-//Alien Boys - ECPv6.15.20//NONSGML v1.0//EN
CALSCALE:GREGORIAN
METHOD:PUBLISH
X-WR-CALNAME:Alien Boys
X-ORIGINAL-URL:https://alienboys.ca
X-WR-CALDESC:Events for Alien Boys
REFRESH-INTERVAL;VALUE=DURATION:PT1H
X-Robots-Tag:noindex
X-PUBLISHED-TTL:PT1H
BEGIN:VTIMEZONE
TZID:UTC
BEGIN:STANDARD
TZOFFSETFROM:+0000
TZOFFSETTO:+0000
TZNAME:UTC
DTSTART:20240101T000000
END:STANDARD
END:VTIMEZONE
BEGIN:VEVENT
DTSTART;TZID=UTC:20250912T210000
DTEND;TZID=UTC:20250912T210000
DTSTAMP:20260423T151505
CREATED:20250816T212616Z
LAST-MODIFIED:20250816T212759Z
UID:969-1757710800-1757710800@alienboys.ca
SUMMARY:Prince George @ the Legion
DESCRIPTION:w/ Gamksimoon \ndoors @ 8 show @ 9 \n$20 advance / $25 door
URL:https://alienboys.ca/event/prince-george-the-legion/
LOCATION:Legion 43 PG\, 1116 6th Avenue\, Prince George\, BC\, Canada
ATTACH;FMTTYPE=image/png:https://alienboys.ca/wp-content/uploads/2025/08/Prince-George-September-12-2025-@-the-Legion.png
END:VEVENT
END:VCALENDAR