BEGIN:VCALENDAR
VERSION:2.0
PRODID:-//Alien Boys - ECPv6.15.20//NONSGML v1.0//EN
CALSCALE:GREGORIAN
METHOD:PUBLISH
X-ORIGINAL-URL:https://alienboys.ca
X-WR-CALDESC:Events for Alien Boys
REFRESH-INTERVAL;VALUE=DURATION:PT1H
X-Robots-Tag:noindex
X-PUBLISHED-TTL:PT1H
BEGIN:VTIMEZONE
TZID:UTC
BEGIN:STANDARD
TZOFFSETFROM:+0000
TZOFFSETTO:+0000
TZNAME:UTC
DTSTART:20240101T000000
END:STANDARD
END:VTIMEZONE
BEGIN:VEVENT
DTSTART;TZID=UTC:20250905T203000
DTEND;TZID=UTC:20250905T233000
DTSTAMP:20260423T151649
CREATED:20250816T202522Z
LAST-MODIFIED:20250816T202557Z
UID:956-1757104200-1757115000@alienboys.ca
SUMMARY:Vancouver @ Green Auto
DESCRIPTION:w/ Gadfly\, the Hairy Cherries \n$15 Advance\, $20 @ door \nDoors @ 7:30\, Show @ 8:30
URL:https://alienboys.ca/event/vancouver-green-auto-2/
LOCATION:Green Auto\, 1822 Pandora Street\, Vancouver\, BC\, V5L1M5\, Canada
ATTACH;FMTTYPE=image/jpeg:https://alienboys.ca/wp-content/uploads/2025/08/Vancouver-Sept-5-2025.jpg
END:VEVENT
END:VCALENDAR